BEGIN:VCALENDAR
VERSION:2.0
PRODID:-//Houston Regional Veterans Chamber of Commerce - ECPv6.15.20//NONSGML v1.0//EN
CALSCALE:GREGORIAN
METHOD:PUBLISH
X-ORIGINAL-URL:https://hrvcc.org
X-WR-CALDESC:Events for Houston Regional Veterans Chamber of Commerce
REFRESH-INTERVAL;VALUE=DURATION:PT1H
X-Robots-Tag:noindex
X-PUBLISHED-TTL:PT1H
BEGIN:VTIMEZONE
TZID:America/Chicago
BEGIN:DAYLIGHT
TZOFFSETFROM:-0600
TZOFFSETTO:-0500
TZNAME:CDT
DTSTART:20250309T080000
END:DAYLIGHT
BEGIN:STANDARD
TZOFFSETFROM:-0500
TZOFFSETTO:-0600
TZNAME:CST
DTSTART:20251102T070000
END:STANDARD
BEGIN:DAYLIGHT
TZOFFSETFROM:-0600
TZOFFSETTO:-0500
TZNAME:CDT
DTSTART:20260308T080000
END:DAYLIGHT
BEGIN:STANDARD
TZOFFSETFROM:-0500
TZOFFSETTO:-0600
TZNAME:CST
DTSTART:20261101T070000
END:STANDARD
BEGIN:DAYLIGHT
TZOFFSETFROM:-0600
TZOFFSETTO:-0500
TZNAME:CDT
DTSTART:20270314T080000
END:DAYLIGHT
BEGIN:STANDARD
TZOFFSETFROM:-0500
TZOFFSETTO:-0600
TZNAME:CST
DTSTART:20271107T070000
END:STANDARD
BEGIN:DAYLIGHT
TZOFFSETFROM:-0600
TZOFFSETTO:-0500
TZNAME:CDT
DTSTART:20280312T080000
END:DAYLIGHT
BEGIN:STANDARD
TZOFFSETFROM:-0500
TZOFFSETTO:-0600
TZNAME:CST
DTSTART:20281105T070000
END:STANDARD
BEGIN:DAYLIGHT
TZOFFSETFROM:-0600
TZOFFSETTO:-0500
TZNAME:CDT
DTSTART:20290311T080000
END:DAYLIGHT
BEGIN:STANDARD
TZOFFSETFROM:-0500
TZOFFSETTO:-0600
TZNAME:CST
DTSTART:20291104T070000
END:STANDARD
END:VTIMEZONE
BEGIN:VEVENT
DTSTART;TZID=America/Chicago:20260502T070000
DTEND;TZID=America/Chicago:20260502T100000
DTSTAMP:20260425T144737
CREATED:20250314T191539Z
LAST-MODIFIED:20250405T012015Z
UID:10000899-1777705200-1777716000@hrvcc.org
SUMMARY:BREAKFAST WITH A VETERAN
DESCRIPTION:COME HAVE BREAKFAST WITH A VETERAN. 7AM – 10 AM   AMERICAN LEGION POST 164/ KATY ELKS \nKATY FORT BEND ROAD\, KATY\, TEXAS
URL:https://hrvcc.org/our-event/breakfast-with-a-veteran/2026-05-02/
LOCATION:Katy Elk’s Lodge\, 1050 Katy Fort Bend Rd\, Katy\, 77493\, United States
CATEGORIES:Member Event,Veteran Master Event Calendar (Veteran Events Only) (Regional)
ATTACH;FMTTYPE=image/png:https://hrvcc.org/wp-content/uploads/2025/03/Screenshot-2025-04-04-201838.png
END:VEVENT
BEGIN:VEVENT
DTSTART;TZID=America/Chicago:20260606T070000
DTEND;TZID=America/Chicago:20260606T100000
DTSTAMP:20260425T144737
CREATED:20250314T191539Z
LAST-MODIFIED:20250405T012015Z
UID:10000900-1780729200-1780740000@hrvcc.org
SUMMARY:BREAKFAST WITH A VETERAN
DESCRIPTION:COME HAVE BREAKFAST WITH A VETERAN. 7AM – 10 AM   AMERICAN LEGION POST 164/ KATY ELKS \nKATY FORT BEND ROAD\, KATY\, TEXAS
URL:https://hrvcc.org/our-event/breakfast-with-a-veteran/2026-06-06/
LOCATION:Katy Elk’s Lodge\, 1050 Katy Fort Bend Rd\, Katy\, 77493\, United States
CATEGORIES:Member Event,Veteran Master Event Calendar (Veteran Events Only) (Regional)
ATTACH;FMTTYPE=image/png:https://hrvcc.org/wp-content/uploads/2025/03/Screenshot-2025-04-04-201838.png
END:VEVENT
BEGIN:VEVENT
DTSTART;TZID=America/Chicago:20260704T070000
DTEND;TZID=America/Chicago:20260704T100000
DTSTAMP:20260425T144737
CREATED:20250314T191539Z
LAST-MODIFIED:20250405T012015Z
UID:10000901-1783148400-1783159200@hrvcc.org
SUMMARY:BREAKFAST WITH A VETERAN
DESCRIPTION:COME HAVE BREAKFAST WITH A VETERAN. 7AM – 10 AM   AMERICAN LEGION POST 164/ KATY ELKS \nKATY FORT BEND ROAD\, KATY\, TEXAS
URL:https://hrvcc.org/our-event/breakfast-with-a-veteran/2026-07-04/
LOCATION:Katy Elk’s Lodge\, 1050 Katy Fort Bend Rd\, Katy\, 77493\, United States
CATEGORIES:Member Event,Veteran Master Event Calendar (Veteran Events Only) (Regional)
ATTACH;FMTTYPE=image/png:https://hrvcc.org/wp-content/uploads/2025/03/Screenshot-2025-04-04-201838.png
END:VEVENT
BEGIN:VEVENT
DTSTART;TZID=America/Chicago:20260801T070000
DTEND;TZID=America/Chicago:20260801T100000
DTSTAMP:20260425T144737
CREATED:20250314T191539Z
LAST-MODIFIED:20250405T012015Z
UID:10000902-1785567600-1785578400@hrvcc.org
SUMMARY:BREAKFAST WITH A VETERAN
DESCRIPTION:COME HAVE BREAKFAST WITH A VETERAN. 7AM – 10 AM   AMERICAN LEGION POST 164/ KATY ELKS \nKATY FORT BEND ROAD\, KATY\, TEXAS
URL:https://hrvcc.org/our-event/breakfast-with-a-veteran/2026-08-01/
LOCATION:Katy Elk’s Lodge\, 1050 Katy Fort Bend Rd\, Katy\, 77493\, United States
CATEGORIES:Member Event,Veteran Master Event Calendar (Veteran Events Only) (Regional)
ATTACH;FMTTYPE=image/png:https://hrvcc.org/wp-content/uploads/2025/03/Screenshot-2025-04-04-201838.png
END:VEVENT
BEGIN:VEVENT
DTSTART;TZID=America/Chicago:20260905T070000
DTEND;TZID=America/Chicago:20260905T100000
DTSTAMP:20260425T144737
CREATED:20250314T191539Z
LAST-MODIFIED:20250405T012015Z
UID:10000903-1788591600-1788602400@hrvcc.org
SUMMARY:BREAKFAST WITH A VETERAN
DESCRIPTION:COME HAVE BREAKFAST WITH A VETERAN. 7AM – 10 AM   AMERICAN LEGION POST 164/ KATY ELKS \nKATY FORT BEND ROAD\, KATY\, TEXAS
URL:https://hrvcc.org/our-event/breakfast-with-a-veteran/2026-09-05/
LOCATION:Katy Elk’s Lodge\, 1050 Katy Fort Bend Rd\, Katy\, 77493\, United States
CATEGORIES:Member Event,Veteran Master Event Calendar (Veteran Events Only) (Regional)
ATTACH;FMTTYPE=image/png:https://hrvcc.org/wp-content/uploads/2025/03/Screenshot-2025-04-04-201838.png
END:VEVENT
BEGIN:VEVENT
DTSTART;TZID=America/Chicago:20261003T070000
DTEND;TZID=America/Chicago:20261003T100000
DTSTAMP:20260425T144737
CREATED:20250314T191539Z
LAST-MODIFIED:20250405T012015Z
UID:10000904-1791010800-1791021600@hrvcc.org
SUMMARY:BREAKFAST WITH A VETERAN
DESCRIPTION:COME HAVE BREAKFAST WITH A VETERAN. 7AM – 10 AM   AMERICAN LEGION POST 164/ KATY ELKS \nKATY FORT BEND ROAD\, KATY\, TEXAS
URL:https://hrvcc.org/our-event/breakfast-with-a-veteran/2026-10-03/
LOCATION:Katy Elk’s Lodge\, 1050 Katy Fort Bend Rd\, Katy\, 77493\, United States
CATEGORIES:Member Event,Veteran Master Event Calendar (Veteran Events Only) (Regional)
ATTACH;FMTTYPE=image/png:https://hrvcc.org/wp-content/uploads/2025/03/Screenshot-2025-04-04-201838.png
END:VEVENT
BEGIN:VEVENT
DTSTART;TZID=America/Chicago:20261107T070000
DTEND;TZID=America/Chicago:20261107T100000
DTSTAMP:20260425T144737
CREATED:20250314T191539Z
LAST-MODIFIED:20250405T012015Z
UID:10000905-1794034800-1794045600@hrvcc.org
SUMMARY:BREAKFAST WITH A VETERAN
DESCRIPTION:COME HAVE BREAKFAST WITH A VETERAN. 7AM – 10 AM   AMERICAN LEGION POST 164/ KATY ELKS \nKATY FORT BEND ROAD\, KATY\, TEXAS
URL:https://hrvcc.org/our-event/breakfast-with-a-veteran/2026-11-07/
LOCATION:Katy Elk’s Lodge\, 1050 Katy Fort Bend Rd\, Katy\, 77493\, United States
CATEGORIES:Member Event,Veteran Master Event Calendar (Veteran Events Only) (Regional)
ATTACH;FMTTYPE=image/png:https://hrvcc.org/wp-content/uploads/2025/03/Screenshot-2025-04-04-201838.png
END:VEVENT
BEGIN:VEVENT
DTSTART;TZID=America/Chicago:20261205T070000
DTEND;TZID=America/Chicago:20261205T100000
DTSTAMP:20260425T144738
CREATED:20250314T191539Z
LAST-MODIFIED:20250405T012015Z
UID:10000906-1796454000-1796464800@hrvcc.org
SUMMARY:BREAKFAST WITH A VETERAN
DESCRIPTION:COME HAVE BREAKFAST WITH A VETERAN. 7AM – 10 AM   AMERICAN LEGION POST 164/ KATY ELKS \nKATY FORT BEND ROAD\, KATY\, TEXAS
URL:https://hrvcc.org/our-event/breakfast-with-a-veteran/2026-12-05/
LOCATION:Katy Elk’s Lodge\, 1050 Katy Fort Bend Rd\, Katy\, 77493\, United States
CATEGORIES:Member Event,Veteran Master Event Calendar (Veteran Events Only) (Regional)
ATTACH;FMTTYPE=image/png:https://hrvcc.org/wp-content/uploads/2025/03/Screenshot-2025-04-04-201838.png
END:VEVENT
BEGIN:VEVENT
DTSTART;TZID=America/Chicago:20270102T070000
DTEND;TZID=America/Chicago:20270102T100000
DTSTAMP:20260425T144738
CREATED:20250314T191539Z
LAST-MODIFIED:20250405T012015Z
UID:10000907-1798873200-1798884000@hrvcc.org
SUMMARY:BREAKFAST WITH A VETERAN
DESCRIPTION:COME HAVE BREAKFAST WITH A VETERAN. 7AM – 10 AM   AMERICAN LEGION POST 164/ KATY ELKS \nKATY FORT BEND ROAD\, KATY\, TEXAS
URL:https://hrvcc.org/our-event/breakfast-with-a-veteran/2027-01-02/
LOCATION:Katy Elk’s Lodge\, 1050 Katy Fort Bend Rd\, Katy\, 77493\, United States
CATEGORIES:Member Event,Veteran Master Event Calendar (Veteran Events Only) (Regional)
ATTACH;FMTTYPE=image/png:https://hrvcc.org/wp-content/uploads/2025/03/Screenshot-2025-04-04-201838.png
END:VEVENT
BEGIN:VEVENT
DTSTART;TZID=America/Chicago:20270206T070000
DTEND;TZID=America/Chicago:20270206T100000
DTSTAMP:20260425T144738
CREATED:20250314T191539Z
LAST-MODIFIED:20250405T012015Z
UID:10000908-1801897200-1801908000@hrvcc.org
SUMMARY:BREAKFAST WITH A VETERAN
DESCRIPTION:COME HAVE BREAKFAST WITH A VETERAN. 7AM – 10 AM   AMERICAN LEGION POST 164/ KATY ELKS \nKATY FORT BEND ROAD\, KATY\, TEXAS
URL:https://hrvcc.org/our-event/breakfast-with-a-veteran/2027-02-06/
LOCATION:Katy Elk’s Lodge\, 1050 Katy Fort Bend Rd\, Katy\, 77493\, United States
CATEGORIES:Member Event,Veteran Master Event Calendar (Veteran Events Only) (Regional)
ATTACH;FMTTYPE=image/png:https://hrvcc.org/wp-content/uploads/2025/03/Screenshot-2025-04-04-201838.png
END:VEVENT
BEGIN:VEVENT
DTSTART;TZID=America/Chicago:20270306T070000
DTEND;TZID=America/Chicago:20270306T100000
DTSTAMP:20260425T144738
CREATED:20250314T191539Z
LAST-MODIFIED:20250405T012015Z
UID:10000909-1804316400-1804327200@hrvcc.org
SUMMARY:BREAKFAST WITH A VETERAN
DESCRIPTION:COME HAVE BREAKFAST WITH A VETERAN. 7AM – 10 AM   AMERICAN LEGION POST 164/ KATY ELKS \nKATY FORT BEND ROAD\, KATY\, TEXAS
URL:https://hrvcc.org/our-event/breakfast-with-a-veteran/2027-03-06/
LOCATION:Katy Elk’s Lodge\, 1050 Katy Fort Bend Rd\, Katy\, 77493\, United States
CATEGORIES:Member Event,Veteran Master Event Calendar (Veteran Events Only) (Regional)
ATTACH;FMTTYPE=image/png:https://hrvcc.org/wp-content/uploads/2025/03/Screenshot-2025-04-04-201838.png
END:VEVENT
BEGIN:VEVENT
DTSTART;TZID=America/Chicago:20270403T070000
DTEND;TZID=America/Chicago:20270403T100000
DTSTAMP:20260425T144738
CREATED:20250314T191539Z
LAST-MODIFIED:20250405T012015Z
UID:10000910-1806735600-1806746400@hrvcc.org
SUMMARY:BREAKFAST WITH A VETERAN
DESCRIPTION:COME HAVE BREAKFAST WITH A VETERAN. 7AM – 10 AM   AMERICAN LEGION POST 164/ KATY ELKS \nKATY FORT BEND ROAD\, KATY\, TEXAS
URL:https://hrvcc.org/our-event/breakfast-with-a-veteran/2027-04-03/
LOCATION:Katy Elk’s Lodge\, 1050 Katy Fort Bend Rd\, Katy\, 77493\, United States
CATEGORIES:Member Event,Veteran Master Event Calendar (Veteran Events Only) (Regional)
ATTACH;FMTTYPE=image/png:https://hrvcc.org/wp-content/uploads/2025/03/Screenshot-2025-04-04-201838.png
END:VEVENT
BEGIN:VEVENT
DTSTART;TZID=America/Chicago:20270501T070000
DTEND;TZID=America/Chicago:20270501T100000
DTSTAMP:20260425T144738
CREATED:20250314T191539Z
LAST-MODIFIED:20250405T012015Z
UID:10000911-1809154800-1809165600@hrvcc.org
SUMMARY:BREAKFAST WITH A VETERAN
DESCRIPTION:COME HAVE BREAKFAST WITH A VETERAN. 7AM – 10 AM   AMERICAN LEGION POST 164/ KATY ELKS \nKATY FORT BEND ROAD\, KATY\, TEXAS
URL:https://hrvcc.org/our-event/breakfast-with-a-veteran/2027-05-01/
LOCATION:Katy Elk’s Lodge\, 1050 Katy Fort Bend Rd\, Katy\, 77493\, United States
CATEGORIES:Member Event,Veteran Master Event Calendar (Veteran Events Only) (Regional)
ATTACH;FMTTYPE=image/png:https://hrvcc.org/wp-content/uploads/2025/03/Screenshot-2025-04-04-201838.png
END:VEVENT
BEGIN:VEVENT
DTSTART;TZID=America/Chicago:20270605T070000
DTEND;TZID=America/Chicago:20270605T100000
DTSTAMP:20260425T144738
CREATED:20250314T191539Z
LAST-MODIFIED:20250405T012015Z
UID:10000912-1812178800-1812189600@hrvcc.org
SUMMARY:BREAKFAST WITH A VETERAN
DESCRIPTION:COME HAVE BREAKFAST WITH A VETERAN. 7AM – 10 AM   AMERICAN LEGION POST 164/ KATY ELKS \nKATY FORT BEND ROAD\, KATY\, TEXAS
URL:https://hrvcc.org/our-event/breakfast-with-a-veteran/2027-06-05/
LOCATION:Katy Elk’s Lodge\, 1050 Katy Fort Bend Rd\, Katy\, 77493\, United States
CATEGORIES:Member Event,Veteran Master Event Calendar (Veteran Events Only) (Regional)
ATTACH;FMTTYPE=image/png:https://hrvcc.org/wp-content/uploads/2025/03/Screenshot-2025-04-04-201838.png
END:VEVENT
BEGIN:VEVENT
DTSTART;TZID=America/Chicago:20270703T070000
DTEND;TZID=America/Chicago:20270703T100000
DTSTAMP:20260425T144738
CREATED:20250314T191539Z
LAST-MODIFIED:20250405T012015Z
UID:10000913-1814598000-1814608800@hrvcc.org
SUMMARY:BREAKFAST WITH A VETERAN
DESCRIPTION:COME HAVE BREAKFAST WITH A VETERAN. 7AM – 10 AM   AMERICAN LEGION POST 164/ KATY ELKS \nKATY FORT BEND ROAD\, KATY\, TEXAS
URL:https://hrvcc.org/our-event/breakfast-with-a-veteran/2027-07-03/
LOCATION:Katy Elk’s Lodge\, 1050 Katy Fort Bend Rd\, Katy\, 77493\, United States
CATEGORIES:Member Event,Veteran Master Event Calendar (Veteran Events Only) (Regional)
ATTACH;FMTTYPE=image/png:https://hrvcc.org/wp-content/uploads/2025/03/Screenshot-2025-04-04-201838.png
END:VEVENT
BEGIN:VEVENT
DTSTART;TZID=America/Chicago:20270807T070000
DTEND;TZID=America/Chicago:20270807T100000
DTSTAMP:20260425T144738
CREATED:20250314T191539Z
LAST-MODIFIED:20250405T012015Z
UID:10000914-1817622000-1817632800@hrvcc.org
SUMMARY:BREAKFAST WITH A VETERAN
DESCRIPTION:COME HAVE BREAKFAST WITH A VETERAN. 7AM – 10 AM   AMERICAN LEGION POST 164/ KATY ELKS \nKATY FORT BEND ROAD\, KATY\, TEXAS
URL:https://hrvcc.org/our-event/breakfast-with-a-veteran/2027-08-07/
LOCATION:Katy Elk’s Lodge\, 1050 Katy Fort Bend Rd\, Katy\, 77493\, United States
CATEGORIES:Member Event,Veteran Master Event Calendar (Veteran Events Only) (Regional)
ATTACH;FMTTYPE=image/png:https://hrvcc.org/wp-content/uploads/2025/03/Screenshot-2025-04-04-201838.png
END:VEVENT
BEGIN:VEVENT
DTSTART;TZID=America/Chicago:20270904T070000
DTEND;TZID=America/Chicago:20270904T100000
DTSTAMP:20260425T144738
CREATED:20250314T191539Z
LAST-MODIFIED:20250405T012015Z
UID:10000915-1820041200-1820052000@hrvcc.org
SUMMARY:BREAKFAST WITH A VETERAN
DESCRIPTION:COME HAVE BREAKFAST WITH A VETERAN. 7AM – 10 AM   AMERICAN LEGION POST 164/ KATY ELKS \nKATY FORT BEND ROAD\, KATY\, TEXAS
URL:https://hrvcc.org/our-event/breakfast-with-a-veteran/2027-09-04/
LOCATION:Katy Elk’s Lodge\, 1050 Katy Fort Bend Rd\, Katy\, 77493\, United States
CATEGORIES:Member Event,Veteran Master Event Calendar (Veteran Events Only) (Regional)
ATTACH;FMTTYPE=image/png:https://hrvcc.org/wp-content/uploads/2025/03/Screenshot-2025-04-04-201838.png
END:VEVENT
BEGIN:VEVENT
DTSTART;TZID=America/Chicago:20271002T070000
DTEND;TZID=America/Chicago:20271002T100000
DTSTAMP:20260425T144738
CREATED:20250314T191539Z
LAST-MODIFIED:20250405T012015Z
UID:10000916-1822460400-1822471200@hrvcc.org
SUMMARY:BREAKFAST WITH A VETERAN
DESCRIPTION:COME HAVE BREAKFAST WITH A VETERAN. 7AM – 10 AM   AMERICAN LEGION POST 164/ KATY ELKS \nKATY FORT BEND ROAD\, KATY\, TEXAS
URL:https://hrvcc.org/our-event/breakfast-with-a-veteran/2027-10-02/
LOCATION:Katy Elk’s Lodge\, 1050 Katy Fort Bend Rd\, Katy\, 77493\, United States
CATEGORIES:Member Event,Veteran Master Event Calendar (Veteran Events Only) (Regional)
ATTACH;FMTTYPE=image/png:https://hrvcc.org/wp-content/uploads/2025/03/Screenshot-2025-04-04-201838.png
END:VEVENT
BEGIN:VEVENT
DTSTART;TZID=America/Chicago:20271106T070000
DTEND;TZID=America/Chicago:20271106T100000
DTSTAMP:20260425T144738
CREATED:20250314T191539Z
LAST-MODIFIED:20250405T012015Z
UID:10000917-1825484400-1825495200@hrvcc.org
SUMMARY:BREAKFAST WITH A VETERAN
DESCRIPTION:COME HAVE BREAKFAST WITH A VETERAN. 7AM – 10 AM   AMERICAN LEGION POST 164/ KATY ELKS \nKATY FORT BEND ROAD\, KATY\, TEXAS
URL:https://hrvcc.org/our-event/breakfast-with-a-veteran/2027-11-06/
LOCATION:Katy Elk’s Lodge\, 1050 Katy Fort Bend Rd\, Katy\, 77493\, United States
CATEGORIES:Member Event,Veteran Master Event Calendar (Veteran Events Only) (Regional)
ATTACH;FMTTYPE=image/png:https://hrvcc.org/wp-content/uploads/2025/03/Screenshot-2025-04-04-201838.png
END:VEVENT
BEGIN:VEVENT
DTSTART;TZID=America/Chicago:20271204T070000
DTEND;TZID=America/Chicago:20271204T100000
DTSTAMP:20260425T144738
CREATED:20250314T191539Z
LAST-MODIFIED:20250405T012015Z
UID:10000918-1827903600-1827914400@hrvcc.org
SUMMARY:BREAKFAST WITH A VETERAN
DESCRIPTION:COME HAVE BREAKFAST WITH A VETERAN. 7AM – 10 AM   AMERICAN LEGION POST 164/ KATY ELKS \nKATY FORT BEND ROAD\, KATY\, TEXAS
URL:https://hrvcc.org/our-event/breakfast-with-a-veteran/2027-12-04/
LOCATION:Katy Elk’s Lodge\, 1050 Katy Fort Bend Rd\, Katy\, 77493\, United States
CATEGORIES:Member Event,Veteran Master Event Calendar (Veteran Events Only) (Regional)
ATTACH;FMTTYPE=image/png:https://hrvcc.org/wp-content/uploads/2025/03/Screenshot-2025-04-04-201838.png
END:VEVENT
BEGIN:VEVENT
DTSTART;TZID=America/Chicago:20280101T070000
DTEND;TZID=America/Chicago:20280101T100000
DTSTAMP:20260425T144738
CREATED:20250314T191539Z
LAST-MODIFIED:20250405T012015Z
UID:10000919-1830322800-1830333600@hrvcc.org
SUMMARY:BREAKFAST WITH A VETERAN
DESCRIPTION:COME HAVE BREAKFAST WITH A VETERAN. 7AM – 10 AM   AMERICAN LEGION POST 164/ KATY ELKS \nKATY FORT BEND ROAD\, KATY\, TEXAS
URL:https://hrvcc.org/our-event/breakfast-with-a-veteran/2028-01-01/
LOCATION:Katy Elk’s Lodge\, 1050 Katy Fort Bend Rd\, Katy\, 77493\, United States
CATEGORIES:Member Event,Veteran Master Event Calendar (Veteran Events Only) (Regional)
ATTACH;FMTTYPE=image/png:https://hrvcc.org/wp-content/uploads/2025/03/Screenshot-2025-04-04-201838.png
END:VEVENT
BEGIN:VEVENT
DTSTART;TZID=America/Chicago:20280205T070000
DTEND;TZID=America/Chicago:20280205T100000
DTSTAMP:20260425T144738
CREATED:20250314T191539Z
LAST-MODIFIED:20250405T012015Z
UID:10000920-1833346800-1833357600@hrvcc.org
SUMMARY:BREAKFAST WITH A VETERAN
DESCRIPTION:COME HAVE BREAKFAST WITH A VETERAN. 7AM – 10 AM   AMERICAN LEGION POST 164/ KATY ELKS \nKATY FORT BEND ROAD\, KATY\, TEXAS
URL:https://hrvcc.org/our-event/breakfast-with-a-veteran/2028-02-05/
LOCATION:Katy Elk’s Lodge\, 1050 Katy Fort Bend Rd\, Katy\, 77493\, United States
CATEGORIES:Member Event,Veteran Master Event Calendar (Veteran Events Only) (Regional)
ATTACH;FMTTYPE=image/png:https://hrvcc.org/wp-content/uploads/2025/03/Screenshot-2025-04-04-201838.png
END:VEVENT
BEGIN:VEVENT
DTSTART;TZID=America/Chicago:20280304T070000
DTEND;TZID=America/Chicago:20280304T100000
DTSTAMP:20260425T144738
CREATED:20250314T191539Z
LAST-MODIFIED:20250405T012015Z
UID:10000921-1835766000-1835776800@hrvcc.org
SUMMARY:BREAKFAST WITH A VETERAN
DESCRIPTION:COME HAVE BREAKFAST WITH A VETERAN. 7AM – 10 AM   AMERICAN LEGION POST 164/ KATY ELKS \nKATY FORT BEND ROAD\, KATY\, TEXAS
URL:https://hrvcc.org/our-event/breakfast-with-a-veteran/2028-03-04/
LOCATION:Katy Elk’s Lodge\, 1050 Katy Fort Bend Rd\, Katy\, 77493\, United States
CATEGORIES:Member Event,Veteran Master Event Calendar (Veteran Events Only) (Regional)
ATTACH;FMTTYPE=image/png:https://hrvcc.org/wp-content/uploads/2025/03/Screenshot-2025-04-04-201838.png
END:VEVENT
BEGIN:VEVENT
DTSTART;TZID=America/Chicago:20280401T070000
DTEND;TZID=America/Chicago:20280401T100000
DTSTAMP:20260425T144738
CREATED:20250314T191539Z
LAST-MODIFIED:20250405T012015Z
UID:10000922-1838185200-1838196000@hrvcc.org
SUMMARY:BREAKFAST WITH A VETERAN
DESCRIPTION:COME HAVE BREAKFAST WITH A VETERAN. 7AM – 10 AM   AMERICAN LEGION POST 164/ KATY ELKS \nKATY FORT BEND ROAD\, KATY\, TEXAS
URL:https://hrvcc.org/our-event/breakfast-with-a-veteran/2028-04-01/
LOCATION:Katy Elk’s Lodge\, 1050 Katy Fort Bend Rd\, Katy\, 77493\, United States
CATEGORIES:Member Event,Veteran Master Event Calendar (Veteran Events Only) (Regional)
ATTACH;FMTTYPE=image/png:https://hrvcc.org/wp-content/uploads/2025/03/Screenshot-2025-04-04-201838.png
END:VEVENT
BEGIN:VEVENT
DTSTART;TZID=America/Chicago:20280506T070000
DTEND;TZID=America/Chicago:20280506T100000
DTSTAMP:20260425T144738
CREATED:20250314T191539Z
LAST-MODIFIED:20250405T012015Z
UID:10000923-1841209200-1841220000@hrvcc.org
SUMMARY:BREAKFAST WITH A VETERAN
DESCRIPTION:COME HAVE BREAKFAST WITH A VETERAN. 7AM – 10 AM   AMERICAN LEGION POST 164/ KATY ELKS \nKATY FORT BEND ROAD\, KATY\, TEXAS
URL:https://hrvcc.org/our-event/breakfast-with-a-veteran/2028-05-06/
LOCATION:Katy Elk’s Lodge\, 1050 Katy Fort Bend Rd\, Katy\, 77493\, United States
CATEGORIES:Member Event,Veteran Master Event Calendar (Veteran Events Only) (Regional)
ATTACH;FMTTYPE=image/png:https://hrvcc.org/wp-content/uploads/2025/03/Screenshot-2025-04-04-201838.png
END:VEVENT
BEGIN:VEVENT
DTSTART;TZID=America/Chicago:20280603T070000
DTEND;TZID=America/Chicago:20280603T100000
DTSTAMP:20260425T144738
CREATED:20250314T191539Z
LAST-MODIFIED:20250405T012015Z
UID:10000924-1843628400-1843639200@hrvcc.org
SUMMARY:BREAKFAST WITH A VETERAN
DESCRIPTION:COME HAVE BREAKFAST WITH A VETERAN. 7AM – 10 AM   AMERICAN LEGION POST 164/ KATY ELKS \nKATY FORT BEND ROAD\, KATY\, TEXAS
URL:https://hrvcc.org/our-event/breakfast-with-a-veteran/2028-06-03/
LOCATION:Katy Elk’s Lodge\, 1050 Katy Fort Bend Rd\, Katy\, 77493\, United States
CATEGORIES:Member Event,Veteran Master Event Calendar (Veteran Events Only) (Regional)
ATTACH;FMTTYPE=image/png:https://hrvcc.org/wp-content/uploads/2025/03/Screenshot-2025-04-04-201838.png
END:VEVENT
BEGIN:VEVENT
DTSTART;TZID=America/Chicago:20280701T070000
DTEND;TZID=America/Chicago:20280701T100000
DTSTAMP:20260425T144738
CREATED:20250314T191539Z
LAST-MODIFIED:20250405T012015Z
UID:10000925-1846047600-1846058400@hrvcc.org
SUMMARY:BREAKFAST WITH A VETERAN
DESCRIPTION:COME HAVE BREAKFAST WITH A VETERAN. 7AM – 10 AM   AMERICAN LEGION POST 164/ KATY ELKS \nKATY FORT BEND ROAD\, KATY\, TEXAS
URL:https://hrvcc.org/our-event/breakfast-with-a-veteran/2028-07-01/
LOCATION:Katy Elk’s Lodge\, 1050 Katy Fort Bend Rd\, Katy\, 77493\, United States
CATEGORIES:Member Event,Veteran Master Event Calendar (Veteran Events Only) (Regional)
ATTACH;FMTTYPE=image/png:https://hrvcc.org/wp-content/uploads/2025/03/Screenshot-2025-04-04-201838.png
END:VEVENT
BEGIN:VEVENT
DTSTART;TZID=America/Chicago:20280805T070000
DTEND;TZID=America/Chicago:20280805T100000
DTSTAMP:20260425T144738
CREATED:20250314T191539Z
LAST-MODIFIED:20250405T012015Z
UID:10000926-1849071600-1849082400@hrvcc.org
SUMMARY:BREAKFAST WITH A VETERAN
DESCRIPTION:COME HAVE BREAKFAST WITH A VETERAN. 7AM – 10 AM   AMERICAN LEGION POST 164/ KATY ELKS \nKATY FORT BEND ROAD\, KATY\, TEXAS
URL:https://hrvcc.org/our-event/breakfast-with-a-veteran/2028-08-05/
LOCATION:Katy Elk’s Lodge\, 1050 Katy Fort Bend Rd\, Katy\, 77493\, United States
CATEGORIES:Member Event,Veteran Master Event Calendar (Veteran Events Only) (Regional)
ATTACH;FMTTYPE=image/png:https://hrvcc.org/wp-content/uploads/2025/03/Screenshot-2025-04-04-201838.png
END:VEVENT
BEGIN:VEVENT
DTSTART;TZID=America/Chicago:20280902T070000
DTEND;TZID=America/Chicago:20280902T100000
DTSTAMP:20260425T144738
CREATED:20250314T191539Z
LAST-MODIFIED:20250405T012015Z
UID:10000927-1851490800-1851501600@hrvcc.org
SUMMARY:BREAKFAST WITH A VETERAN
DESCRIPTION:COME HAVE BREAKFAST WITH A VETERAN. 7AM – 10 AM   AMERICAN LEGION POST 164/ KATY ELKS \nKATY FORT BEND ROAD\, KATY\, TEXAS
URL:https://hrvcc.org/our-event/breakfast-with-a-veteran/2028-09-02/
LOCATION:Katy Elk’s Lodge\, 1050 Katy Fort Bend Rd\, Katy\, 77493\, United States
CATEGORIES:Member Event,Veteran Master Event Calendar (Veteran Events Only) (Regional)
ATTACH;FMTTYPE=image/png:https://hrvcc.org/wp-content/uploads/2025/03/Screenshot-2025-04-04-201838.png
END:VEVENT
BEGIN:VEVENT
DTSTART;TZID=America/Chicago:20281007T070000
DTEND;TZID=America/Chicago:20281007T100000
DTSTAMP:20260425T144738
CREATED:20250314T191539Z
LAST-MODIFIED:20250405T012015Z
UID:10000928-1854514800-1854525600@hrvcc.org
SUMMARY:BREAKFAST WITH A VETERAN
DESCRIPTION:COME HAVE BREAKFAST WITH A VETERAN. 7AM – 10 AM   AMERICAN LEGION POST 164/ KATY ELKS \nKATY FORT BEND ROAD\, KATY\, TEXAS
URL:https://hrvcc.org/our-event/breakfast-with-a-veteran/2028-10-07/
LOCATION:Katy Elk’s Lodge\, 1050 Katy Fort Bend Rd\, Katy\, 77493\, United States
CATEGORIES:Member Event,Veteran Master Event Calendar (Veteran Events Only) (Regional)
ATTACH;FMTTYPE=image/png:https://hrvcc.org/wp-content/uploads/2025/03/Screenshot-2025-04-04-201838.png
END:VEVENT
END:VCALENDAR