BEGIN:VCALENDAR
VERSION:2.0
PRODID:-//Houston Regional Veterans Chamber of Commerce - ECPv6.15.20//NONSGML v1.0//EN
CALSCALE:GREGORIAN
METHOD:PUBLISH
X-WR-CALNAME:Houston Regional Veterans Chamber of Commerce
X-ORIGINAL-URL:https://hrvcc.org
X-WR-CALDESC:Events for Houston Regional Veterans Chamber of Commerce
REFRESH-INTERVAL;VALUE=DURATION:PT1H
X-Robots-Tag:noindex
X-PUBLISHED-TTL:PT1H
BEGIN:VTIMEZONE
TZID:America/Chicago
BEGIN:DAYLIGHT
TZOFFSETFROM:-0600
TZOFFSETTO:-0500
TZNAME:CDT
DTSTART:20240310T080000
END:DAYLIGHT
BEGIN:STANDARD
TZOFFSETFROM:-0500
TZOFFSETTO:-0600
TZNAME:CST
DTSTART:20241103T070000
END:STANDARD
BEGIN:DAYLIGHT
TZOFFSETFROM:-0600
TZOFFSETTO:-0500
TZNAME:CDT
DTSTART:20250309T080000
END:DAYLIGHT
BEGIN:STANDARD
TZOFFSETFROM:-0500
TZOFFSETTO:-0600
TZNAME:CST
DTSTART:20251102T070000
END:STANDARD
BEGIN:DAYLIGHT
TZOFFSETFROM:-0600
TZOFFSETTO:-0500
TZNAME:CDT
DTSTART:20260308T080000
END:DAYLIGHT
BEGIN:STANDARD
TZOFFSETFROM:-0500
TZOFFSETTO:-0600
TZNAME:CST
DTSTART:20261101T070000
END:STANDARD
END:VTIMEZONE
BEGIN:VEVENT
DTSTART;TZID=America/Chicago:20250222T030000
DTEND;TZID=America/Chicago:20250222T073000
DTSTAMP:20260419T083810
CREATED:20250124T011905Z
LAST-MODIFIED:20250207T195656Z
UID:10000347-1740193200-1740209400@hrvcc.org
SUMMARY:IMPACT A HERO Leadership Academy
DESCRIPTION:You’re invited to join us for Leadership Academy\, an exclusive 8 week program! This is FREE ($2\,500 program cost covered in full by Impact A Hero) to our heroes\, veterans\, active service members\, and their families! Presented by Rick Miller\, Capt USN\, learn about the Cornerstones of Leadership and Keys to Achieving Great Results over this 8 week program! \nLocation: Houston Community College Stafford\, Workforce Building\, 13622 Stafford Rd\, Rm S113\, Stafford\, TX 77477 \nDate and time: Begins Saturday\, Jan. 25\, 2025 – 9:00am – 1:30pm and runs through Mar. 29\, see schedule above.
URL:https://hrvcc.org/our-event/impact-a-hero-leadership-academy/2025-02-22/
LOCATION:Houston Community College   Stafford Workforce Building\, 13622 Stafford Rd.\, RM S113\, Stafford\, TX\, 77477\, United States
CATEGORIES:Business Education
ATTACH;FMTTYPE=image/webp:https://hrvcc.org/wp-content/uploads/2025/01/Leadership_Academy_Jan_2025.webp
ORGANIZER;CN="Christina Resendez":MAILTO:Christina.Resendez@impactahero.org
END:VEVENT
BEGIN:VEVENT
DTSTART;TZID=America/Chicago:20250215T030000
DTEND;TZID=America/Chicago:20250215T073000
DTSTAMP:20260419T083810
CREATED:20250124T011905Z
LAST-MODIFIED:20250207T195656Z
UID:10000346-1739588400-1739604600@hrvcc.org
SUMMARY:IMPACT A HERO Leadership Academy
DESCRIPTION:You’re invited to join us for Leadership Academy\, an exclusive 8 week program! This is FREE ($2\,500 program cost covered in full by Impact A Hero) to our heroes\, veterans\, active service members\, and their families! Presented by Rick Miller\, Capt USN\, learn about the Cornerstones of Leadership and Keys to Achieving Great Results over this 8 week program! \nLocation: Houston Community College Stafford\, Workforce Building\, 13622 Stafford Rd\, Rm S113\, Stafford\, TX 77477 \nDate and time: Begins Saturday\, Jan. 25\, 2025 – 9:00am – 1:30pm and runs through Mar. 29\, see schedule above.
URL:https://hrvcc.org/our-event/impact-a-hero-leadership-academy/2025-02-15/
LOCATION:Houston Community College   Stafford Workforce Building\, 13622 Stafford Rd.\, RM S113\, Stafford\, TX\, 77477\, United States
CATEGORIES:Business Education
ATTACH;FMTTYPE=image/webp:https://hrvcc.org/wp-content/uploads/2025/01/Leadership_Academy_Jan_2025.webp
ORGANIZER;CN="Christina Resendez":MAILTO:Christina.Resendez@impactahero.org
END:VEVENT
BEGIN:VEVENT
DTSTART;TZID=America/Chicago:20250208T030000
DTEND;TZID=America/Chicago:20250208T073000
DTSTAMP:20260419T083810
CREATED:20250124T011905Z
LAST-MODIFIED:20250207T195656Z
UID:10000345-1738983600-1738999800@hrvcc.org
SUMMARY:IMPACT A HERO Leadership Academy
DESCRIPTION:You’re invited to join us for Leadership Academy\, an exclusive 8 week program! This is FREE ($2\,500 program cost covered in full by Impact A Hero) to our heroes\, veterans\, active service members\, and their families! Presented by Rick Miller\, Capt USN\, learn about the Cornerstones of Leadership and Keys to Achieving Great Results over this 8 week program! \nLocation: Houston Community College Stafford\, Workforce Building\, 13622 Stafford Rd\, Rm S113\, Stafford\, TX 77477 \nDate and time: Begins Saturday\, Jan. 25\, 2025 – 9:00am – 1:30pm and runs through Mar. 29\, see schedule above.
URL:https://hrvcc.org/our-event/impact-a-hero-leadership-academy/2025-02-08/
LOCATION:Houston Community College   Stafford Workforce Building\, 13622 Stafford Rd.\, RM S113\, Stafford\, TX\, 77477\, United States
CATEGORIES:Business Education
ATTACH;FMTTYPE=image/webp:https://hrvcc.org/wp-content/uploads/2025/01/Leadership_Academy_Jan_2025.webp
ORGANIZER;CN="Christina Resendez":MAILTO:Christina.Resendez@impactahero.org
END:VEVENT
BEGIN:VEVENT
DTSTART;TZID=America/Chicago:20250201T030000
DTEND;TZID=America/Chicago:20250201T073000
DTSTAMP:20260419T083810
CREATED:20250124T011905Z
LAST-MODIFIED:20250207T195656Z
UID:10000344-1738378800-1738395000@hrvcc.org
SUMMARY:IMPACT A HERO Leadership Academy
DESCRIPTION:You’re invited to join us for Leadership Academy\, an exclusive 8 week program! This is FREE ($2\,500 program cost covered in full by Impact A Hero) to our heroes\, veterans\, active service members\, and their families! Presented by Rick Miller\, Capt USN\, learn about the Cornerstones of Leadership and Keys to Achieving Great Results over this 8 week program! \nLocation: Houston Community College Stafford\, Workforce Building\, 13622 Stafford Rd\, Rm S113\, Stafford\, TX 77477 \nDate and time: Begins Saturday\, Jan. 25\, 2025 – 9:00am – 1:30pm and runs through Mar. 29\, see schedule above.
URL:https://hrvcc.org/our-event/impact-a-hero-leadership-academy/2025-02-01/
LOCATION:Houston Community College   Stafford Workforce Building\, 13622 Stafford Rd.\, RM S113\, Stafford\, TX\, 77477\, United States
CATEGORIES:Business Education
ATTACH;FMTTYPE=image/webp:https://hrvcc.org/wp-content/uploads/2025/01/Leadership_Academy_Jan_2025.webp
ORGANIZER;CN="Christina Resendez":MAILTO:Christina.Resendez@impactahero.org
END:VEVENT
BEGIN:VEVENT
DTSTART;TZID=America/Chicago:20250125T030000
DTEND;TZID=America/Chicago:20250125T073000
DTSTAMP:20260419T083810
CREATED:20250124T011905Z
LAST-MODIFIED:20250207T195656Z
UID:10000343-1737774000-1737790200@hrvcc.org
SUMMARY:IMPACT A HERO Leadership Academy
DESCRIPTION:You’re invited to join us for Leadership Academy\, an exclusive 8 week program! This is FREE ($2\,500 program cost covered in full by Impact A Hero) to our heroes\, veterans\, active service members\, and their families! Presented by Rick Miller\, Capt USN\, learn about the Cornerstones of Leadership and Keys to Achieving Great Results over this 8 week program! \nLocation: Houston Community College Stafford\, Workforce Building\, 13622 Stafford Rd\, Rm S113\, Stafford\, TX 77477 \nDate and time: Begins Saturday\, Jan. 25\, 2025 – 9:00am – 1:30pm and runs through Mar. 29\, see schedule above.
URL:https://hrvcc.org/our-event/impact-a-hero-leadership-academy/2025-01-25/
LOCATION:Houston Community College   Stafford Workforce Building\, 13622 Stafford Rd.\, RM S113\, Stafford\, TX\, 77477\, United States
CATEGORIES:Business Education
ATTACH;FMTTYPE=image/webp:https://hrvcc.org/wp-content/uploads/2025/01/Leadership_Academy_Jan_2025.webp
ORGANIZER;CN="Christina Resendez":MAILTO:Christina.Resendez@impactahero.org
END:VEVENT
END:VCALENDAR