BEGIN:VCALENDAR
VERSION:2.0
PRODID:-//Houston Regional Veterans Chamber of Commerce - ECPv6.15.20//NONSGML v1.0//EN
CALSCALE:GREGORIAN
METHOD:PUBLISH
X-WR-CALNAME:Houston Regional Veterans Chamber of Commerce
X-ORIGINAL-URL:https://hrvcc.org
X-WR-CALDESC:Events for Houston Regional Veterans Chamber of Commerce
REFRESH-INTERVAL;VALUE=DURATION:PT1H
X-Robots-Tag:noindex
X-PUBLISHED-TTL:PT1H
BEGIN:VTIMEZONE
TZID:America/Chicago
BEGIN:DAYLIGHT
TZOFFSETFROM:-0600
TZOFFSETTO:-0500
TZNAME:CDT
DTSTART:20240310T080000
END:DAYLIGHT
BEGIN:STANDARD
TZOFFSETFROM:-0500
TZOFFSETTO:-0600
TZNAME:CST
DTSTART:20241103T070000
END:STANDARD
BEGIN:DAYLIGHT
TZOFFSETFROM:-0600
TZOFFSETTO:-0500
TZNAME:CDT
DTSTART:20250309T080000
END:DAYLIGHT
BEGIN:STANDARD
TZOFFSETFROM:-0500
TZOFFSETTO:-0600
TZNAME:CST
DTSTART:20251102T070000
END:STANDARD
BEGIN:DAYLIGHT
TZOFFSETFROM:-0600
TZOFFSETTO:-0500
TZNAME:CDT
DTSTART:20260308T080000
END:DAYLIGHT
BEGIN:STANDARD
TZOFFSETFROM:-0500
TZOFFSETTO:-0600
TZNAME:CST
DTSTART:20261101T070000
END:STANDARD
END:VTIMEZONE
BEGIN:VEVENT
DTSTART;TZID=America/Chicago:20251011T130000
DTEND;TZID=America/Chicago:20251011T153000
DTSTAMP:20260418T215750
CREATED:20251001T144251Z
LAST-MODIFIED:20251001T144251Z
UID:10001964-1760187600-1760196600@hrvcc.org
SUMMARY:New Volunteer Orientation
DESCRIPTION:Join Henry’s Home’s New Volunteer Orientation and be part of something bigger! Help rescue horses thrive\, provide healing support for Veterans and Retired First Responders\, and make lasting connections. Your efforts nurture lives\, create hope\, and transform our community. You’ll make a difference—start today! \n\nClick Here to Sign Up
URL:https://hrvcc.org/our-event/new-volunteer-orientation-2/
LOCATION:Henry’s Home\, Horse & Human Sanctuary\, 14638 Perry Road\, Conroe\, TX\, 77302\, United States
CATEGORIES:Member Event,Volunteer Opportunities
ATTACH;FMTTYPE=image/png:https://hrvcc.org/wp-content/uploads/2025/10/3.png
ORGANIZER;CN="Darlene Gagnon":MAILTO:outreach@henryshomesanctuary.org
END:VEVENT
BEGIN:VEVENT
DTSTART;TZID=America/Chicago:20250920T100000
DTEND;TZID=America/Chicago:20250920T120000
DTSTAMP:20260418T215750
CREATED:20250826T225441Z
LAST-MODIFIED:20250826T225441Z
UID:10001841-1758362400-1758369600@hrvcc.org
SUMMARY:Veterans Yoga Project: Mindful Resilience Tools Workshop
DESCRIPTION:Step into a space of growth and resilience with the Mindful Resilience Tools Workshop\, led by Brian\, a U.S. Marine Veteran\, Retired Special Agent\, and seasoned yoga instructor. With over two decades of military and law enforcement experience\, Brian has dedicated his life to service and now channels that commitment into teaching mindfulness and yoga to veterans. A leader with Veterans Yoga Project since 2015\, he brings a profound depth of knowledge\, practical tools\, and a compassionate approach to help participants foster mental strength and emotional balance. \nThis workshop offers an immersive experience into mindfulness practices and the science behind them. You’ll explore breathing techniques\, mindful meditation\, and guided rest designed to recalibrate your nervous system and promote inner calm. Along the way\, Brian weaves in accessible insights into neuroscience and your body’s natural responses\, empowering you with tools to manage stress and enhance mental clarity. \nWhether you’re a veteran or seeking strategies to build resilience\, this workshop provides a roadmap for personal strength and healing. Join us to discover how simple yet powerful practices can inspire lifelong well-being.
URL:https://hrvcc.org/our-event/veterans-yoga-project-mindful-resilience-tools-workshop/
LOCATION:Henry’s Home\, Horse & Human Sanctuary\, 14638 Perry Road\, Conroe\, TX\, 77302\, United States
CATEGORIES:Business / Entrepreneur Event,Member Event,Networking
ATTACH;FMTTYPE=image/jpeg:https://hrvcc.org/wp-content/uploads/2025/08/Member_Minute_copy.jpg
END:VEVENT
END:VCALENDAR