BEGIN:VCALENDAR
VERSION:2.0
PRODID:-//Houston Regional Veterans Chamber of Commerce - ECPv6.15.20//NONSGML v1.0//EN
CALSCALE:GREGORIAN
METHOD:PUBLISH
X-WR-CALNAME:Houston Regional Veterans Chamber of Commerce
X-ORIGINAL-URL:https://hrvcc.org
X-WR-CALDESC:Events for Houston Regional Veterans Chamber of Commerce
REFRESH-INTERVAL;VALUE=DURATION:PT1H
X-Robots-Tag:noindex
X-PUBLISHED-TTL:PT1H
BEGIN:VTIMEZONE
TZID:America/Chicago
BEGIN:DAYLIGHT
TZOFFSETFROM:-0600
TZOFFSETTO:-0500
TZNAME:CDT
DTSTART:20240310T080000
END:DAYLIGHT
BEGIN:STANDARD
TZOFFSETFROM:-0500
TZOFFSETTO:-0600
TZNAME:CST
DTSTART:20241103T070000
END:STANDARD
BEGIN:DAYLIGHT
TZOFFSETFROM:-0600
TZOFFSETTO:-0500
TZNAME:CDT
DTSTART:20250309T080000
END:DAYLIGHT
BEGIN:STANDARD
TZOFFSETFROM:-0500
TZOFFSETTO:-0600
TZNAME:CST
DTSTART:20251102T070000
END:STANDARD
BEGIN:DAYLIGHT
TZOFFSETFROM:-0600
TZOFFSETTO:-0500
TZNAME:CDT
DTSTART:20260308T080000
END:DAYLIGHT
BEGIN:STANDARD
TZOFFSETFROM:-0500
TZOFFSETTO:-0600
TZNAME:CST
DTSTART:20261101T070000
END:STANDARD
BEGIN:DAYLIGHT
TZOFFSETFROM:-0600
TZOFFSETTO:-0500
TZNAME:CDT
DTSTART:20270314T080000
END:DAYLIGHT
BEGIN:STANDARD
TZOFFSETFROM:-0500
TZOFFSETTO:-0600
TZNAME:CST
DTSTART:20271107T070000
END:STANDARD
END:VTIMEZONE
BEGIN:VEVENT
DTSTART;TZID=America/Chicago:20250224T080000
DTEND;TZID=America/Chicago:20261231T170000
DTSTAMP:20260425T162217
CREATED:20250207T234115Z
LAST-MODIFIED:20260421T145425Z
UID:10000789-1740384000-1798736400@hrvcc.org
SUMMARY:Verizon Small Business Digital
DESCRIPTION:Time to Up your Digital Skills in the Marketplace \nBringing Businesses a number of Business Digital Skills Courses at 🚨NO COST🚨 \n🔥Complete any 2 Courses and you now have access to a\n💰💰$10\,000 Business Grant and other grant opportunities \nHere is just some of the courses HRVCC is bringing to you\, to help business Owners better position themselves to win at business and win in the digital marketplace.\n🔷 Defining your Brand: Connecting to Customers\n🔷 Finding the right financing for your business\n🔷 Getting beyond break even: From Knowing numbers to Making Money\n🔷 Digital Defense: An intro to cyber security\n🔷 Winning Contracts: How to write winning business proposals\n🔷 Boost your business: Leveraging technology for productivity\n🔷 OVER – 90 Courses available at your finder tips to grow your business \nTime to up your Business Digital Game and create more opportunities to do more businesses. \nONE TEAM – ONE MISSION
URL:https://hrvcc.org/our-event/verizon-small-business-digital/
LOCATION:Online\, United States
CATEGORIES:Business Education,Educational Webinars,HRVCC Events
ATTACH;FMTTYPE=image/png:https://hrvcc.org/wp-content/uploads/2025/02/Verizond30e2894-cc28-5e56-281e-c9f9542798b4.png
END:VEVENT
BEGIN:VEVENT
DTSTART;TZID=America/Chicago:20260109T110000
DTEND;TZID=America/Chicago:20260327T110000
DTSTAMP:20260425T162217
CREATED:20251219T172958Z
LAST-MODIFIED:20260306T170046Z
UID:10001987-1767956400-1774609200@hrvcc.org
SUMMARY:⭐️ HRVCC ⭐️ Weekly Meeting
DESCRIPTION:Houston Regional Veterans Chamber – Weekly Virtual Zoom Meeting\nMembers & Guests \nHRVCC NEW Zoom Link for 2026\nZoom Meeting — *** Best to Keep your Confirmation Email so you will not have to reregister again for future meetings. \nhttps://us06web.zoom.us/j/87861721727\nYou are invited to a Zoom meeting now. \nPlease register for the meeting:\nhttps://us06web.zoom.us/meeting/register/ZWeUpCVkSlm1-2SH1p7GPg \nAfter registering\, you will receive a confirmation email containing information about joining the meeting. \nMeeting ID: 892 8812 3579\nPasscode: VetBiz2023 \nHRVCC Member & Guests welcome\nBusiness Education\nBusiness Resources\nGrow your knowledge & your network of Veteran Owned Business
URL:https://hrvcc.org/our-event/%e2%ad%90%ef%b8%8f-hrvcc-%e2%ad%90%ef%b8%8f-weekly-meeting/2026-01-09/
LOCATION:https://us06web.zoom.us/j/87861721727
CATEGORIES:Networking
ATTACH;FMTTYPE=image/png:https://hrvcc.org/wp-content/uploads/2025/01/hrvcc1.png
END:VEVENT
BEGIN:VEVENT
DTSTART;TZID=America/Chicago:20260317T083000
DTEND;TZID=America/Chicago:20260317T120000
DTSTAMP:20260425T162217
CREATED:20260316T223455Z
LAST-MODIFIED:20260316T223455Z
UID:10002474-1773736200-1773748800@hrvcc.org
SUMMARY:Lender Matchmaking Event | Galveston County SBDC
DESCRIPTION:
URL:https://hrvcc.org/our-event/lender-matchmaking-event-galveston-county-sbdc-2/
LOCATION:Kemah Community Center\, 800 Harris Avenue\, Kemah\, TX\, 77565\, United States
CATEGORIES:Business / Entrepreneur Event,Business Education,Member Event
END:VEVENT
BEGIN:VEVENT
DTSTART;TZID=America/Chicago:20260318T083000
DTEND;TZID=America/Chicago:20260318T100000
DTSTAMP:20260425T162217
CREATED:20260316T222744Z
LAST-MODIFIED:20260316T223425Z
UID:10002473-1773822600-1773828000@hrvcc.org
SUMMARY:SBDC Day - Start | Grow | Succeed with the SBDC | San Jacinto College SBDC
DESCRIPTION:
URL:https://hrvcc.org/our-event/lender-matchmaking-event-galveston-county-sbdc/
LOCATION:Clear Lake Area Chamber of Commerce\, 1201 East NASA Parkway\, Boardroom\, TX\, 77058\, United States
CATEGORIES:Business / Entrepreneur Event,Business Education,Member Event
END:VEVENT
BEGIN:VEVENT
DTSTART;TZID=America/Chicago:20260318T180000
DTEND;TZID=America/Chicago:20260318T210000
DTSTAMP:20260425T162217
CREATED:20260205T205027Z
LAST-MODIFIED:20260205T213303Z
UID:10002016-1773856800-1773867600@hrvcc.org
SUMMARY:Cowboys & Indians - HRVCC Mixer (MARCH)
DESCRIPTION:HRVCC –  MINI MASTERMIND MIXER\n Cowboys & Indians\nVeteran and Non-Veteran Business Owners come and gather for mixer at Cowboys & Indians. Come meet other business owners\, enjoy appetizers\, and learn about Houston Regional Veterans Chamber of Commerce. \n  \nDate and Time: Wednesday\, 18th March 2025  · 6 – 9pm CDT \nLocation: Cowboys & Indians \n\n519 Shepherd Dr\, Houston\, TX 77007 \nAgenda: \n\n\nConnections & Success Stories \n\n\nNetworking with Local Veteran Business Leaders \n\n\nCollaborative Conversations on Growth & Opportunity \n\n\n👉 Open to all — bring a friend and see what the HRVCC is all about. \n\n\nLet’s come together to give back and support our community while building stronger business connections! \n💡 Sponsorships Available – Contact  Breanna Brower\, HRVCC Mixer Coordinator for details \n\n\nONE TEAM – ONE MISSION \n 
URL:https://hrvcc.org/our-event/cowboys-indians-hrvcc-mixer-march/
LOCATION:Cowboys and Indians\, 519 Shepherd Dr\, Houston\, TX\, 77007\, United States
CATEGORIES:Business / Entrepreneur Event,HRVCC Events,Mixer/After Hours Networking Events,Networking
ATTACH;FMTTYPE=image/png:https://hrvcc.org/wp-content/uploads/2026/02/CowboysIndiansMixer.png
END:VEVENT
BEGIN:VEVENT
DTSTART;TZID=America/Chicago:20260319T080000
DTEND;TZID=America/Chicago:20260319T093000
DTSTAMP:20260425T162217
CREATED:20250808T205744Z
LAST-MODIFIED:20260325T215409Z
UID:10001597-1773907200-1773912600@hrvcc.org
SUMMARY:Christian Business Partners Networking Meeting
DESCRIPTION:Christian Business Partners Networking Meeting \nAre you a Christian business owner looking to connect with others who share your values? Join us for an informational meeting to learn more about Christian Business Partners (CBP)\, a networking group where we build relationships to empower and promote each other’s businesses. \nWe are a group of Christian entrepreneurs and business representatives who strive to run our businesses according to Biblical standards. Our goal is to create a supportive community where we can help you improve your business exposure and grow. \nThis is a non-exclusive group\, and anyone is welcome to attend.\nWe meet weekly at the church\, which has a coffee house that will be open for us. Feel free to come early and stay late to network with others.\nWe would love to meet you and learn how we can support you.
URL:https://hrvcc.org/our-event/christian-business-partners-networking-meeting-2/2026-03-19/
LOCATION:Open Door Church\, 1035 Dairy Ashford Road\, Houston\, TX\, 77079\, United States
CATEGORIES:Member Event,Networking
ATTACH;FMTTYPE=image/jpeg:https://hrvcc.org/wp-content/uploads/2025/08/489331453_1104687735036714_6443372182529629689_n.jpg
END:VEVENT
BEGIN:VEVENT
DTSTART;VALUE=DATE:20260321
DTEND;VALUE=DATE:20260322
DTSTAMP:20260425T162217
CREATED:20260210T025518Z
LAST-MODIFIED:20260210T144225Z
UID:10002019-1774051200-1774137599@hrvcc.org
SUMMARY:Veterans Leadership Academy
DESCRIPTION:Unlock Your Potential: Join the Free Veterans Leadership Academy this March! \nTransitioning from military service to campus and career life isn’t just about changing your uniform—it’s about translating your unique strengths into impactful leadership for the civilian world. \nWe are excited to invite you to the Veterans Leadership Academy (VLA)\, an intensive program designed specifically for Veterans and their dependents. The program is completely free of charge for all Veterans and military family members.\nProgram Details \n\nCost: $0 (Completely Free for Veterans & Military Families)\nWhen: Saturdays\, March 21 – June 6\, 2026\nTime: 9:00 AM – 1:00 PM\nLocation: HCC Brays Oaks Campus | Room 204\nAddress: 8855 W Bellfort Ave\, Houston\, TX 77031\n\n\nWhat You’ll Gain\nThis isn’t your typical lecture series. The VLA is a highly interactive experience focused on personal development and real-world application. Our curriculum covers: \n\nPersonality Assessments: Understand your core drivers.\nEmotional Intelligence: Master the competencies that top employers value.\nLeadership Styles: Identify and refine your personal approach.\nStrategic Thinking & Communication: Learn to navigate complex environments and resolve conflicts effectively.\n\nReady to Lead?\nSince this program is fully funded and offered at no cost to you\, spaces are expected to fill quickly. Secure your spot today by registering at the link below: Register Here \nONE TEAM – ONE MISSION!
URL:https://hrvcc.org/our-event/veterans-leadership-academy/2026-03-21/
LOCATION: HCC Brays Oaks Campus | Room 204\, 8855 W Bellfort Ave.\, Houston\, TX\, 77031\, United States
CATEGORIES:Business Education,HRVCC Events,Member Event,Veteran Master Event Calendar (Veteran Events Only) (Regional)
ATTACH;FMTTYPE=image/png:https://hrvcc.org/wp-content/uploads/2026/02/HCC-VLA.png
END:VEVENT
BEGIN:VEVENT
DTSTART;TZID=America/Chicago:20260321T080000
DTEND;TZID=America/Chicago:20260321T170000
DTSTAMP:20260425T162217
CREATED:20260130T010523Z
LAST-MODIFIED:20260130T010554Z
UID:10002013-1774080000-1774112400@hrvcc.org
SUMMARY:BOOTS TO BUSINESS University of Houston SBDC-In-Person  Reboot
DESCRIPTION:Ready to launch or grow your veteran-owned business?\nJoin the SBA Houston District Office and the UTRGV Veterans Business Outreach Center for Boots to Business Reboot (B2BR) an in-depth\, entrepreneurial education and training program from the U.S. Small Business Administration (SBA). \nThis hands-on course includes:\n✅ An overview of entrepreneurship essentials\n✅ Guidance on building a winning business plan\n✅ Practical exercises in identifying new opportunities\n✅ Access to key public and private sector resources \n🎖 Open to Veterans of all eras\, Active-Duty Service Members (including National Guard & Reserve)\, and Military Spouses. \n⚠️ Please note: You must log in or create an account to register for this class. \n🎯 IN-PERSON: Boots to Business Reboot – Houston\n📅 Wednesday\, March 11\n🕗 8:00 AM – 4:45 PM CT\n📍 Houston Center SBDC\n1455 West Loop South\, Suite 900\nHouston\, TX 77027 \n🔗 REGISTER NOW  \nONE TEAM – ONE MISSION
URL:https://hrvcc.org/our-event/boots-to-business-university-of-houston-sbdc-in-person-reboot/
LOCATION:University of Houston Small Business Development Center\, 1455 West Loop South\, Suite 900\, Houston\, TX\, 77027-9530\, United States
CATEGORIES:Business Education,Veteran Master Event Calendar (Veteran Events Only) (Regional)
ATTACH;FMTTYPE=image/jpeg:https://hrvcc.org/wp-content/uploads/2026/01/SBAMarch112026.jpeg
END:VEVENT
BEGIN:VEVENT
DTSTART;TZID=America/Chicago:20260321T080000
DTEND;TZID=America/Chicago:20260321T170000
DTSTAMP:20260425T162217
CREATED:20260317T204915Z
LAST-MODIFIED:20260317T204915Z
UID:10002476-1774080000-1774112400@hrvcc.org
SUMMARY:Spring Fling
DESCRIPTION:Our 9th Annual Spring Fling at Fred Reyes Greenhouses is happening next weekend\, and the nursery is looking absolutely beautiful!\nIf you’ve been waiting to come out and see us\, this is the perfect weekend to do it. Walk the greenhouses\, enjoy the spring atmosphere\, shop for plants\, and make a day of it with family and friends.\nWe’ll have local vendors\, food trucks\, photo spots\, and of course thousands of beautiful plants ready for their new homes.
URL:https://hrvcc.org/our-event/spring-fling/2026-03-21/
LOCATION:Fred Reyes Greenhouse\, 136 Cowhide Dr\, Simonton\, TX\, United States
CATEGORIES:Business / Entrepreneur Event,Member Event
ATTACH;FMTTYPE=image/jpeg:https://hrvcc.org/wp-content/uploads/2026/03/Spring_Fling_1.jpg
END:VEVENT
BEGIN:VEVENT
DTSTART;TZID=America/Chicago:20260321T110000
DTEND;TZID=America/Chicago:20260321T140000
DTSTAMP:20260425T162217
CREATED:20260203T132944Z
LAST-MODIFIED:20260203T133153Z
UID:10002014-1774090800-1774101600@hrvcc.org
SUMMARY:RANGE DAY
DESCRIPTION:Come out and show off your target skills! \nBring your friends and family out for a fun and safe day at the range—handguns only. Whether you’re a first-timer or a seasoned shooter\, this is an awesome opportunity to connect with the community\, enjoy great food\, and sharpen your skills. \nHere’s what’s included with registration: \n • A bag of bullets \n • Supervised shooting with certified range safety officers \n • Access to local vendors\, a food truck\, and more! \nCost: \n • $15 for VAREP members \n • $25 for non-members \nRegister early and join us for a day of family-friendly fun\, food\, and target practice!
URL:https://hrvcc.org/our-event/range-day/
LOCATION:Van Road Gun Range\, 18920 Van Road\, Houston\, TX\, 77049\, United States
CATEGORIES:Networking
ATTACH;FMTTYPE=image/webp:https://hrvcc.org/wp-content/uploads/2026/02/VAREP.webp
ORGANIZER;CN="VAREP Houston":MAILTO:CJ@VAREPHouston.org
END:VEVENT
BEGIN:VEVENT
DTSTART;TZID=America/Chicago:20260322T100000
DTEND;TZID=America/Chicago:20260323T160000
DTSTAMP:20260425T162217
CREATED:20260317T204915Z
LAST-MODIFIED:20260317T204915Z
UID:10002477-1774173600-1774281600@hrvcc.org
SUMMARY:Spring Fling
DESCRIPTION:Our 9th Annual Spring Fling at Fred Reyes Greenhouses is happening next weekend\, and the nursery is looking absolutely beautiful!\nIf you’ve been waiting to come out and see us\, this is the perfect weekend to do it. Walk the greenhouses\, enjoy the spring atmosphere\, shop for plants\, and make a day of it with family and friends.\nWe’ll have local vendors\, food trucks\, photo spots\, and of course thousands of beautiful plants ready for their new homes.
URL:https://hrvcc.org/our-event/spring-fling/2026-03-22/
LOCATION:Fred Reyes Greenhouse\, 136 Cowhide Dr\, Simonton\, TX\, United States
CATEGORIES:Business / Entrepreneur Event,Member Event
ATTACH;FMTTYPE=image/jpeg:https://hrvcc.org/wp-content/uploads/2026/03/Spring_Fling_1.jpg
END:VEVENT
END:VCALENDAR