BEGIN:VCALENDAR
VERSION:2.0
PRODID:-//Houston Regional Veterans Chamber of Commerce - ECPv6.15.20//NONSGML v1.0//EN
CALSCALE:GREGORIAN
METHOD:PUBLISH
X-WR-CALNAME:Houston Regional Veterans Chamber of Commerce
X-ORIGINAL-URL:https://hrvcc.org
X-WR-CALDESC:Events for Houston Regional Veterans Chamber of Commerce
REFRESH-INTERVAL;VALUE=DURATION:PT1H
X-Robots-Tag:noindex
X-PUBLISHED-TTL:PT1H
BEGIN:VTIMEZONE
TZID:America/Chicago
BEGIN:DAYLIGHT
TZOFFSETFROM:-0600
TZOFFSETTO:-0500
TZNAME:CDT
DTSTART:20240310T080000
END:DAYLIGHT
BEGIN:STANDARD
TZOFFSETFROM:-0500
TZOFFSETTO:-0600
TZNAME:CST
DTSTART:20241103T070000
END:STANDARD
BEGIN:DAYLIGHT
TZOFFSETFROM:-0600
TZOFFSETTO:-0500
TZNAME:CDT
DTSTART:20250309T080000
END:DAYLIGHT
BEGIN:STANDARD
TZOFFSETFROM:-0500
TZOFFSETTO:-0600
TZNAME:CST
DTSTART:20251102T070000
END:STANDARD
BEGIN:DAYLIGHT
TZOFFSETFROM:-0600
TZOFFSETTO:-0500
TZNAME:CDT
DTSTART:20260308T080000
END:DAYLIGHT
BEGIN:STANDARD
TZOFFSETFROM:-0500
TZOFFSETTO:-0600
TZNAME:CST
DTSTART:20261101T070000
END:STANDARD
BEGIN:DAYLIGHT
TZOFFSETFROM:-0600
TZOFFSETTO:-0500
TZNAME:CDT
DTSTART:20270314T080000
END:DAYLIGHT
BEGIN:STANDARD
TZOFFSETFROM:-0500
TZOFFSETTO:-0600
TZNAME:CST
DTSTART:20271107T070000
END:STANDARD
END:VTIMEZONE
BEGIN:VEVENT
DTSTART;TZID=America/Chicago:20250224T080000
DTEND;TZID=America/Chicago:20261231T170000
DTSTAMP:20260425T164644
CREATED:20250207T234115Z
LAST-MODIFIED:20260421T145425Z
UID:10000789-1740384000-1798736400@hrvcc.org
SUMMARY:Verizon Small Business Digital
DESCRIPTION:Time to Up your Digital Skills in the Marketplace \nBringing Businesses a number of Business Digital Skills Courses at 🚨NO COST🚨 \n🔥Complete any 2 Courses and you now have access to a\n💰💰$10\,000 Business Grant and other grant opportunities \nHere is just some of the courses HRVCC is bringing to you\, to help business Owners better position themselves to win at business and win in the digital marketplace.\n🔷 Defining your Brand: Connecting to Customers\n🔷 Finding the right financing for your business\n🔷 Getting beyond break even: From Knowing numbers to Making Money\n🔷 Digital Defense: An intro to cyber security\n🔷 Winning Contracts: How to write winning business proposals\n🔷 Boost your business: Leveraging technology for productivity\n🔷 OVER – 90 Courses available at your finder tips to grow your business \nTime to up your Business Digital Game and create more opportunities to do more businesses. \nONE TEAM – ONE MISSION
URL:https://hrvcc.org/our-event/verizon-small-business-digital/
LOCATION:Online\, United States
CATEGORIES:Business Education,Educational Webinars,HRVCC Events
ATTACH;FMTTYPE=image/png:https://hrvcc.org/wp-content/uploads/2025/02/Verizond30e2894-cc28-5e56-281e-c9f9542798b4.png
END:VEVENT
BEGIN:VEVENT
DTSTART;TZID=America/Chicago:20260109T110000
DTEND;TZID=America/Chicago:20260327T110000
DTSTAMP:20260425T164644
CREATED:20251219T172958Z
LAST-MODIFIED:20260306T170046Z
UID:10001987-1767956400-1774609200@hrvcc.org
SUMMARY:⭐️ HRVCC ⭐️ Weekly Meeting
DESCRIPTION:Houston Regional Veterans Chamber – Weekly Virtual Zoom Meeting\nMembers & Guests \nHRVCC NEW Zoom Link for 2026\nZoom Meeting — *** Best to Keep your Confirmation Email so you will not have to reregister again for future meetings. \nhttps://us06web.zoom.us/j/87861721727\nYou are invited to a Zoom meeting now. \nPlease register for the meeting:\nhttps://us06web.zoom.us/meeting/register/ZWeUpCVkSlm1-2SH1p7GPg \nAfter registering\, you will receive a confirmation email containing information about joining the meeting. \nMeeting ID: 892 8812 3579\nPasscode: VetBiz2023 \nHRVCC Member & Guests welcome\nBusiness Education\nBusiness Resources\nGrow your knowledge & your network of Veteran Owned Business
URL:https://hrvcc.org/our-event/%e2%ad%90%ef%b8%8f-hrvcc-%e2%ad%90%ef%b8%8f-weekly-meeting/2026-01-09/
LOCATION:https://us06web.zoom.us/j/87861721727
CATEGORIES:Networking
ATTACH;FMTTYPE=image/png:https://hrvcc.org/wp-content/uploads/2025/01/hrvcc1.png
END:VEVENT
BEGIN:VEVENT
DTSTART;TZID=America/Chicago:20260223T080000
DTEND;TZID=America/Chicago:20260223T170000
DTSTAMP:20260425T164644
CREATED:20260129T185930Z
LAST-MODIFIED:20260129T185930Z
UID:10002012-1771833600-1771866000@hrvcc.org
SUMMARY:Boots to Business Houston District Office-Online-2026-02-23-Reboot
DESCRIPTION:Are you ready to start or grow your veteran-owned business?\nJoin the SBA Houston District Office and the UTRGV Veterans Business Outreach Center for Boots to Business Reboot (B2BR) a powerful entrepreneurial training program designed specifically for Veterans\, Active-Duty Service Members (including National Guard & Reserve)\, and Military Spouses. \nThis 1-day virtual course will guide you through:\n✅ The fundamentals of entrepreneurship\n✅ How to build a solid business plan\n✅ Opportunity recognition & practical exercises\n✅ Access to vital public and private sector resources \n🎖 Open to Veterans of all eras\, Active-Duty\, National Guard\, Reserve\, and Spouses! \n⚠️ Please note: You must log in or create an account to register for this class. \nEmpower your next mission entrepreneurship! \n🚀 ONLINE 1-Day Boots to Business Reboot\n📅 Monday\, February 23\n🕗 8:00 AM – 5:00 PM CT\n🔗 REGISTER NOW  \nONE TEAM – ONE MISSION
URL:https://hrvcc.org/our-event/boots-to-business-houston-district-office-online-2026-02-23-reboot/
LOCATION:Online\, United States
CATEGORIES:Business Education,Educational Webinars,Member Event,Veteran Master Event Calendar (Veteran Events Only) (Regional)
ATTACH;FMTTYPE=image/png:https://hrvcc.org/wp-content/uploads/2026/01/SBAFeb232026.png
END:VEVENT
BEGIN:VEVENT
DTSTART;TZID=America/Chicago:20260224T080000
DTEND;TZID=America/Chicago:20260224T170000
DTSTAMP:20260425T164644
CREATED:20250827T221248Z
LAST-MODIFIED:20250827T232412Z
UID:10001854-1771920000-1771952400@hrvcc.org
SUMMARY:Submitting an Award-Winning Nomination for SBA National Small Business Week Awards
DESCRIPTION:National Small Business Week 2026 will take place May 3-9\, and SBA will officially recognize small businesses’ hard work\, ingenuity\, and dedication\, including their contributions to the economy.\n\nNominate YOUR small business (or a small business you know) for an award!\n\nSubmission Deadline:\n\n\nMonday\, December 8\, 2025\, at 6:00am CT\n\n\n2026 National Award Categories:\n\n\nSmall Business Person of the Year\n\n\nSmall Business Exporter of the Year\n\n\n2026 Local Award Categories:\n\n\nWoman-Owned Small Business of the Year\n\n\nVeteran-Owned Small Business of the Year\n\n\nYoung Entrepreneur of the Year\n\n\nFamily-Owned Small Business of the Year\n\n\nRural Small Business of the Year\n\n\nSmall Business Manufacturer of the Year\n\n\nBlue-Collar Small Business of the Year\n\n\nNomination Guidelines & Forms:\n\n\nClick here for National Guidelines and Information\n\n\nClick here for Houston District Local Award Categories\n\n\nBasic Eligibility Requirements:\nAny legal resident of the United States or its Territories who owns 51% of a business and operates a small business for a minimum of three years and have received at least one type of SBA assistance.\n\nWe are hosting bi-weekly webinars to help complete the best possible nomination; register for one here: https://score.zoom.us/webinar/register/WN_rzH65w5YQf2ujRSSMulvOw
URL:https://hrvcc.org/our-event/submitting-an-award-winning-nomination-for-sba-national-small-business-week-awards/2026-02-24/
LOCATION:Online\, United States
CATEGORIES:Business / Entrepreneur Event,Educational Webinars,Member Event
ATTACH;FMTTYPE=image/png:https://hrvcc.org/wp-content/uploads/2025/08/image012.png
END:VEVENT
BEGIN:VEVENT
DTSTART;TZID=America/Chicago:20260225T100000
DTEND;TZID=America/Chicago:20260225T110000
DTSTAMP:20260425T164644
CREATED:20260109T214214Z
LAST-MODIFIED:20260109T215131Z
UID:10002000-1772013600-1772017200@hrvcc.org
SUMMARY:2026 Cohort of the Blue Wave Supplier Development Program
DESCRIPTION:🌊 Exciting Opportunity for HRVCC Members!\nWe’re thrilled to announce the launch of the 2026 Cohort of the Blue Wave Supplier Development Program\, proudly sponsored by the American Petroleum Institute (API) and Allison Weinberg! \nThis 6-month executive program is designed to help small businesses strengthen operations\, enhance capabilities\, and align with international standards all at no cost to HRVCC members\, thanks to API’s continued generosity. \nParticipants will receive mentorship from industry experts and training in vital areas such as health\, safety\, cybersecurity\, financial management\, quality\, sustainability\, and AI. \n📅 Virtual Information Sessions: February 25🔗 Click here to RSVP \nDon’t miss this incredible chance to grow your business in partnership with API and the Blue Wave team. \nONE TEAM – ONE MISSION!
URL:https://hrvcc.org/our-event/2026-cohort-of-the-blue-wave-supplier-development-program-4/
LOCATION:Online\, United States
CATEGORIES:Business / Entrepreneur Event,Business Education,HRVCC Events
ATTACH;FMTTYPE=image/png:https://hrvcc.org/wp-content/uploads/2026/01/thumbnail_image.png
END:VEVENT
BEGIN:VEVENT
DTSTART;TZID=America/Chicago:20260226T080000
DTEND;TZID=America/Chicago:20260226T093000
DTSTAMP:20260425T164644
CREATED:20250808T205744Z
LAST-MODIFIED:20260325T215409Z
UID:10001594-1772092800-1772098200@hrvcc.org
SUMMARY:Christian Business Partners Networking Meeting
DESCRIPTION:Christian Business Partners Networking Meeting \nAre you a Christian business owner looking to connect with others who share your values? Join us for an informational meeting to learn more about Christian Business Partners (CBP)\, a networking group where we build relationships to empower and promote each other’s businesses. \nWe are a group of Christian entrepreneurs and business representatives who strive to run our businesses according to Biblical standards. Our goal is to create a supportive community where we can help you improve your business exposure and grow. \nThis is a non-exclusive group\, and anyone is welcome to attend.\nWe meet weekly at the church\, which has a coffee house that will be open for us. Feel free to come early and stay late to network with others.\nWe would love to meet you and learn how we can support you.
URL:https://hrvcc.org/our-event/christian-business-partners-networking-meeting-2/2026-02-26/
LOCATION:Open Door Church\, 1035 Dairy Ashford Road\, Houston\, TX\, 77079\, United States
CATEGORIES:Member Event,Networking
ATTACH;FMTTYPE=image/jpeg:https://hrvcc.org/wp-content/uploads/2025/08/489331453_1104687735036714_6443372182529629689_n.jpg
END:VEVENT
BEGIN:VEVENT
DTSTART;TZID=America/Chicago:20260226T140000
DTEND;TZID=America/Chicago:20260226T150000
DTSTAMP:20260425T164644
CREATED:20260220T212003Z
LAST-MODIFIED:20260223T021440Z
UID:10002454-1772114400-1772118000@hrvcc.org
SUMMARY:SAVE THE DATE
DESCRIPTION:  \nCity of Houston & Office of Business Opportunity (OBO) \nThe City of Houston and the Office of Business Opportunity (OBO) are launching two new Small Business Certifications  designed to expand access\, opportunity\, and city contracting pathways for those who served our country. \nThis is about action.This is about access.This is about honoring service with opportunity. \n📍 Join Us in Force:Thursday\, February 26\, 2026 | Houston City HallLet’s pack the room and show the Mayor that Houston’s Veteran-Owned Businesses (VOBs) are strong\, united\, and ready to grow! \n✅ Spread the word throughout the Veteran Business Community!We’re finally being recognized and it’s time to show up in a BIG\, BIG WAY to support this milestone for our Veteran Economy. \n👏 Special thanks to the HRVCC Leadership and all who have worked tirelessly behind the scenes for over 3 years to make this moment happen. \n🗂️ See the flyer for full event details. \nONE TEAM – ONE MISSION
URL:https://hrvcc.org/our-event/save-the-date/
LOCATION:HOUSTON CITY HALL\, 901 Bagby St.\, Houston\, TX\, 77002\, United States
CATEGORIES:Business / Entrepreneur Event,Veteran Master Event Calendar (Veteran Events Only) (Regional)
END:VEVENT
BEGIN:VEVENT
DTSTART;TZID=America/Chicago:20260226T173000
DTEND;TZID=America/Chicago:20260226T203000
DTSTAMP:20260425T164644
CREATED:20260209T170817Z
LAST-MODIFIED:20260209T172811Z
UID:10002017-1772127000-1772137800@hrvcc.org
SUMMARY:Oil Gas Global Network Industry Mixer
DESCRIPTION:🚨Exclusive HRVCC Member Benefit – Oil & Gas Global Network Event 🚨\nHRVCC members now have access to an exclusive FREE discount code for the Oil & Gas Global Network (OGGN) Event\, available in your member profile! \n📅 Date: Thursday\, February 26\, 2026\n⏰ Time: 5:30 PM – 8:30 PM\n📍 Location: The Ranch Office – Memorial 1220 Blalock Road #300\, Houston\, TX 77055 \n🤝 Network with Oil & Gas Pros: Connect with 75–100 industry leaders\, senior executives\, and professionals in a relaxed\, not-so-corporate atmosphere. \n🍔🍷🎵 Enjoy the Evening: Savor delicious food\, drinks\, and live music. \nOGGN is a proud Veteran-Owned Business (VOB) and sponsor of HRVCC. \n🔹👉 HRVCC Member Login  (💥 FREE for HRVCC Members – use your member code!)\n🔗 Register for the event here:  OGGN Monthly Mixer – Jan 29\, 2026 \nONE TEAM – ONE MISSION
URL:https://hrvcc.org/our-event/oil-gas-global-network-industry-mixer-feb/
LOCATION:The Ranch Office – Memorial\, 1220 Blalock Rd #300\, Houston\, TX\, 77055\, United States
CATEGORIES:Business / Entrepreneur Event,Mixer/After Hours Networking Events,Networking
ATTACH;FMTTYPE=image/jpeg:https://hrvcc.org/wp-content/uploads/2026/02/https___cdn.evbuc_.com_images_1176706037_916363836153_1_original.jpeg
END:VEVENT
END:VCALENDAR