BEGIN:VCALENDAR
VERSION:2.0
PRODID:-//Houston Regional Veterans Chamber of Commerce - ECPv6.15.20//NONSGML v1.0//EN
CALSCALE:GREGORIAN
METHOD:PUBLISH
X-WR-CALNAME:Houston Regional Veterans Chamber of Commerce
X-ORIGINAL-URL:https://hrvcc.org
X-WR-CALDESC:Events for Houston Regional Veterans Chamber of Commerce
REFRESH-INTERVAL;VALUE=DURATION:PT1H
X-Robots-Tag:noindex
X-PUBLISHED-TTL:PT1H
BEGIN:VTIMEZONE
TZID:America/Chicago
BEGIN:DAYLIGHT
TZOFFSETFROM:-0600
TZOFFSETTO:-0500
TZNAME:CDT
DTSTART:20240310T080000
END:DAYLIGHT
BEGIN:STANDARD
TZOFFSETFROM:-0500
TZOFFSETTO:-0600
TZNAME:CST
DTSTART:20241103T070000
END:STANDARD
BEGIN:DAYLIGHT
TZOFFSETFROM:-0600
TZOFFSETTO:-0500
TZNAME:CDT
DTSTART:20250309T080000
END:DAYLIGHT
BEGIN:STANDARD
TZOFFSETFROM:-0500
TZOFFSETTO:-0600
TZNAME:CST
DTSTART:20251102T070000
END:STANDARD
BEGIN:DAYLIGHT
TZOFFSETFROM:-0600
TZOFFSETTO:-0500
TZNAME:CDT
DTSTART:20260308T080000
END:DAYLIGHT
BEGIN:STANDARD
TZOFFSETFROM:-0500
TZOFFSETTO:-0600
TZNAME:CST
DTSTART:20261101T070000
END:STANDARD
BEGIN:DAYLIGHT
TZOFFSETFROM:-0600
TZOFFSETTO:-0500
TZNAME:CDT
DTSTART:20270314T080000
END:DAYLIGHT
BEGIN:STANDARD
TZOFFSETFROM:-0500
TZOFFSETTO:-0600
TZNAME:CST
DTSTART:20271107T070000
END:STANDARD
END:VTIMEZONE
BEGIN:VEVENT
DTSTART;TZID=America/Chicago:20250224T080000
DTEND;TZID=America/Chicago:20261231T170000
DTSTAMP:20260425T190836
CREATED:20250207T234115Z
LAST-MODIFIED:20260421T145425Z
UID:10000789-1740384000-1798736400@hrvcc.org
SUMMARY:Verizon Small Business Digital
DESCRIPTION:Time to Up your Digital Skills in the Marketplace \nBringing Businesses a number of Business Digital Skills Courses at 🚨NO COST🚨 \n🔥Complete any 2 Courses and you now have access to a\n💰💰$10\,000 Business Grant and other grant opportunities \nHere is just some of the courses HRVCC is bringing to you\, to help business Owners better position themselves to win at business and win in the digital marketplace.\n🔷 Defining your Brand: Connecting to Customers\n🔷 Finding the right financing for your business\n🔷 Getting beyond break even: From Knowing numbers to Making Money\n🔷 Digital Defense: An intro to cyber security\n🔷 Winning Contracts: How to write winning business proposals\n🔷 Boost your business: Leveraging technology for productivity\n🔷 OVER – 90 Courses available at your finder tips to grow your business \nTime to up your Business Digital Game and create more opportunities to do more businesses. \nONE TEAM – ONE MISSION
URL:https://hrvcc.org/our-event/verizon-small-business-digital/
LOCATION:Online\, United States
CATEGORIES:Business Education,Educational Webinars,HRVCC Events
ATTACH;FMTTYPE=image/png:https://hrvcc.org/wp-content/uploads/2025/02/Verizond30e2894-cc28-5e56-281e-c9f9542798b4.png
END:VEVENT
BEGIN:VEVENT
DTSTART;TZID=America/Chicago:20251230T080000
DTEND;TZID=America/Chicago:20251230T170000
DTSTAMP:20260425T190836
CREATED:20250827T221248Z
LAST-MODIFIED:20250827T232412Z
UID:10001850-1767081600-1767114000@hrvcc.org
SUMMARY:Submitting an Award-Winning Nomination for SBA National Small Business Week Awards
DESCRIPTION:National Small Business Week 2026 will take place May 3-9\, and SBA will officially recognize small businesses’ hard work\, ingenuity\, and dedication\, including their contributions to the economy.\n\nNominate YOUR small business (or a small business you know) for an award!\n\nSubmission Deadline:\n\n\nMonday\, December 8\, 2025\, at 6:00am CT\n\n\n2026 National Award Categories:\n\n\nSmall Business Person of the Year\n\n\nSmall Business Exporter of the Year\n\n\n2026 Local Award Categories:\n\n\nWoman-Owned Small Business of the Year\n\n\nVeteran-Owned Small Business of the Year\n\n\nYoung Entrepreneur of the Year\n\n\nFamily-Owned Small Business of the Year\n\n\nRural Small Business of the Year\n\n\nSmall Business Manufacturer of the Year\n\n\nBlue-Collar Small Business of the Year\n\n\nNomination Guidelines & Forms:\n\n\nClick here for National Guidelines and Information\n\n\nClick here for Houston District Local Award Categories\n\n\nBasic Eligibility Requirements:\nAny legal resident of the United States or its Territories who owns 51% of a business and operates a small business for a minimum of three years and have received at least one type of SBA assistance.\n\nWe are hosting bi-weekly webinars to help complete the best possible nomination; register for one here: https://score.zoom.us/webinar/register/WN_rzH65w5YQf2ujRSSMulvOw
URL:https://hrvcc.org/our-event/submitting-an-award-winning-nomination-for-sba-national-small-business-week-awards/2025-12-30/
LOCATION:Online\, United States
CATEGORIES:Business / Entrepreneur Event,Educational Webinars,Member Event
ATTACH;FMTTYPE=image/png:https://hrvcc.org/wp-content/uploads/2025/08/image012.png
END:VEVENT
BEGIN:VEVENT
DTSTART;TZID=America/Chicago:20260101T080000
DTEND;TZID=America/Chicago:20260101T093000
DTSTAMP:20260425T190836
CREATED:20250808T205744Z
LAST-MODIFIED:20260325T215409Z
UID:10001586-1767254400-1767259800@hrvcc.org
SUMMARY:Christian Business Partners Networking Meeting
DESCRIPTION:Christian Business Partners Networking Meeting \nAre you a Christian business owner looking to connect with others who share your values? Join us for an informational meeting to learn more about Christian Business Partners (CBP)\, a networking group where we build relationships to empower and promote each other’s businesses. \nWe are a group of Christian entrepreneurs and business representatives who strive to run our businesses according to Biblical standards. Our goal is to create a supportive community where we can help you improve your business exposure and grow. \nThis is a non-exclusive group\, and anyone is welcome to attend.\nWe meet weekly at the church\, which has a coffee house that will be open for us. Feel free to come early and stay late to network with others.\nWe would love to meet you and learn how we can support you.
URL:https://hrvcc.org/our-event/christian-business-partners-networking-meeting-2/2026-01-01/
LOCATION:Open Door Church\, 1035 Dairy Ashford Road\, Houston\, TX\, 77079\, United States
CATEGORIES:Member Event,Networking
ATTACH;FMTTYPE=image/jpeg:https://hrvcc.org/wp-content/uploads/2025/08/489331453_1104687735036714_6443372182529629689_n.jpg
END:VEVENT
BEGIN:VEVENT
DTSTART;TZID=America/Chicago:20260103T070000
DTEND;TZID=America/Chicago:20260103T100000
DTSTAMP:20260425T190836
CREATED:20250314T191539Z
LAST-MODIFIED:20250405T012015Z
UID:10000895-1767423600-1767434400@hrvcc.org
SUMMARY:BREAKFAST WITH A VETERAN
DESCRIPTION:COME HAVE BREAKFAST WITH A VETERAN. 7AM – 10 AM   AMERICAN LEGION POST 164/ KATY ELKS \nKATY FORT BEND ROAD\, KATY\, TEXAS
URL:https://hrvcc.org/our-event/breakfast-with-a-veteran/2026-01-03/
LOCATION:Katy Elk’s Lodge\, 1050 Katy Fort Bend Rd\, Katy\, 77493\, United States
CATEGORIES:Member Event,Veteran Master Event Calendar (Veteran Events Only) (Regional)
ATTACH;FMTTYPE=image/png:https://hrvcc.org/wp-content/uploads/2025/03/Screenshot-2025-04-04-201838.png
END:VEVENT
END:VCALENDAR