BEGIN:VCALENDAR
VERSION:2.0
PRODID:-//Houston Regional Veterans Chamber of Commerce - ECPv6.15.20//NONSGML v1.0//EN
CALSCALE:GREGORIAN
METHOD:PUBLISH
X-ORIGINAL-URL:https://hrvcc.org
X-WR-CALDESC:Events for Houston Regional Veterans Chamber of Commerce
REFRESH-INTERVAL;VALUE=DURATION:PT1H
X-Robots-Tag:noindex
X-PUBLISHED-TTL:PT1H
BEGIN:VTIMEZONE
TZID:America/Chicago
BEGIN:DAYLIGHT
TZOFFSETFROM:-0600
TZOFFSETTO:-0500
TZNAME:CDT
DTSTART:20250309T080000
END:DAYLIGHT
BEGIN:STANDARD
TZOFFSETFROM:-0500
TZOFFSETTO:-0600
TZNAME:CST
DTSTART:20251102T070000
END:STANDARD
BEGIN:DAYLIGHT
TZOFFSETFROM:-0600
TZOFFSETTO:-0500
TZNAME:CDT
DTSTART:20260308T080000
END:DAYLIGHT
BEGIN:STANDARD
TZOFFSETFROM:-0500
TZOFFSETTO:-0600
TZNAME:CST
DTSTART:20261101T070000
END:STANDARD
BEGIN:DAYLIGHT
TZOFFSETFROM:-0600
TZOFFSETTO:-0500
TZNAME:CDT
DTSTART:20270314T080000
END:DAYLIGHT
BEGIN:STANDARD
TZOFFSETFROM:-0500
TZOFFSETTO:-0600
TZNAME:CST
DTSTART:20271107T070000
END:STANDARD
END:VTIMEZONE
BEGIN:VEVENT
DTSTART;TZID=America/Chicago:20260109T110000
DTEND;TZID=America/Chicago:20260327T110000
DTSTAMP:20260425T150924
CREATED:20251219T172958Z
LAST-MODIFIED:20260306T170046Z
UID:10001987-1767956400-1774609200@hrvcc.org
SUMMARY:⭐️ HRVCC ⭐️ Weekly Meeting
DESCRIPTION:Houston Regional Veterans Chamber – Weekly Virtual Zoom Meeting\nMembers & Guests \nHRVCC NEW Zoom Link for 2026\nZoom Meeting — *** Best to Keep your Confirmation Email so you will not have to reregister again for future meetings. \nhttps://us06web.zoom.us/j/87861721727\nYou are invited to a Zoom meeting now. \nPlease register for the meeting:\nhttps://us06web.zoom.us/meeting/register/ZWeUpCVkSlm1-2SH1p7GPg \nAfter registering\, you will receive a confirmation email containing information about joining the meeting. \nMeeting ID: 892 8812 3579\nPasscode: VetBiz2023 \nHRVCC Member & Guests welcome\nBusiness Education\nBusiness Resources\nGrow your knowledge & your network of Veteran Owned Business
URL:https://hrvcc.org/our-event/%e2%ad%90%ef%b8%8f-hrvcc-%e2%ad%90%ef%b8%8f-weekly-meeting/2026-01-09/
LOCATION:https://us06web.zoom.us/j/87861721727
CATEGORIES:Networking
ATTACH;FMTTYPE=image/png:https://hrvcc.org/wp-content/uploads/2025/01/hrvcc1.png
END:VEVENT
BEGIN:VEVENT
DTSTART;TZID=America/Chicago:20260310T180000
DTEND;TZID=America/Chicago:20260310T200000
DTSTAMP:20260425T150924
CREATED:20260114T205059Z
LAST-MODIFIED:20260120T205749Z
UID:10002007-1773165600-1773172800@hrvcc.org
SUMMARY:Cup of JoeY FT HRVCC - (MARCH 2026)
DESCRIPTION:☕️Cup of JoeY FT Houston Regional Veterans Chamber of Commerce🎖️\nAbout this event \n\nEvent lasts 2 hours\nJoin us for a networking event where veterans and local businesses come together over a cup of coffee to support each other in Houston.\n\n📅 Date & Time:  10th March\, 2026 | 6:00 – 8:00 PM CST\n📍 Location: PUTTERY HOUSTON  1818 Washington Ave Unit 180\, Houston\, TX 77007\n👔 Attire: Business Casual / Come as You Are \nConnect with veterans and professionals at PUTTERY HOUSTON with coffee and drinks at this special evening networking event—a space for meaningful conversations and building lasting connections between the military and business communities. \n🗓️ Event Schedule: \n✅ 6:00 PM – 6:30 PM | Check-in & Grab Drinks/Food from Pinstripes 🍽️🥂\n📸 7:00 PM | JoeY’s Signature Family Photo 📷\n🔗 7:00 PM – 8:00 PM | Open Networking & Engaging Discussions 🎤 \n🤔 What’s Your “WHY”? \nExplore your purpose and connect with like-minded individuals at our evening Cup of JoeY! Build meaningful connections that honor your mission and drive success. \n🎖️ About HRVCC \nThe Houston Regional Veterans Chamber of Commerce is dedicated to empowering veteran-owned businesses and fostering economic growth within the veteran community. We bridge the gap between military and civilian sectors\, creating opportunities for success. \nSee you there! \n  \n🔗 Other Business Resources: \n\n\n\n\n\n\n🚀 HRVCC Verizon Digital Ready  | 📅 HRVCC Events Calendar | 📸 HRVCC Photo Gallery | 🔥 Join the Mission \n  \n\n\n\n\n\n\nONE TEAM – ONE MISSION \n 
URL:https://hrvcc.org/our-event/cup-of-joey-ft-hrvcc-march-2026/
LOCATION:PUTTERY HOUSTON\, 1818 Washington Ave Unit 180\, Houston\, TX\, 77007\, United States
CATEGORIES:Business / Entrepreneur Event,HRVCC Events,Mixer/After Hours Networking Events,Networking
ATTACH;FMTTYPE=image/png:https://hrvcc.org/wp-content/uploads/2025/11/Cup-of-Joey-2026.png
END:VEVENT
BEGIN:VEVENT
DTSTART;TZID=America/Chicago:20260311T180000
DTEND;TZID=America/Chicago:20260311T210000
DTSTAMP:20260425T150924
CREATED:20251113T162629Z
LAST-MODIFIED:20260205T211826Z
UID:10001984-1773252000-1773262800@hrvcc.org
SUMMARY:Jimmy Changas in Katy - HRVCC Mixer (MARCH 2026)
DESCRIPTION:HRVCC – KATY MIXER \nVeteran and Non-Veteran Business Owners gather at our monthly mixer at Jimmy Changas in Katy. Come meet other business owners\, enjoy appetizers\, and learn about Houston Regional Veterans Chamber of Commerce. \nDate and Time: Wednesday 11th March 2025\,  6 – 9pm CDT \nLocation: Jimmy Changas \n300 Westgreen Blvd.\, Katy\, TX 77450 \nAgenda: \n\n\nConnections & Success Stories \n\n\nNetworking with Local Veteran Business Leaders \n\n\nCollaborative Conversations on Growth & Opportunity \n\n\n👉 Open to all — bring a friend and see what the HRVCC is all about. \n💡 Sponsorships Available – Contact  Breanna Brower\, HRVCC Mixer Coordinator for details \nONE TEAM – ONE MISSION \n 
URL:https://hrvcc.org/our-event/jimmy-changas-in-katy-hrvcc-mixer-march/
LOCATION:Jimmy Changas\, 300 Westgreen Blvd\, Houston\, TX\, 77450\, United States
CATEGORIES:Business / Entrepreneur Event,HRVCC Events,Mixer/After Hours Networking Events,Networking
ATTACH;FMTTYPE=image/png:https://hrvcc.org/wp-content/uploads/2025/11/2026CIMixer.png
END:VEVENT
BEGIN:VEVENT
DTSTART;TZID=America/Chicago:20260312T080000
DTEND;TZID=America/Chicago:20260312T093000
DTSTAMP:20260425T150924
CREATED:20250808T205744Z
LAST-MODIFIED:20260325T215409Z
UID:10001596-1773302400-1773307800@hrvcc.org
SUMMARY:Christian Business Partners Networking Meeting
DESCRIPTION:Christian Business Partners Networking Meeting \nAre you a Christian business owner looking to connect with others who share your values? Join us for an informational meeting to learn more about Christian Business Partners (CBP)\, a networking group where we build relationships to empower and promote each other’s businesses. \nWe are a group of Christian entrepreneurs and business representatives who strive to run our businesses according to Biblical standards. Our goal is to create a supportive community where we can help you improve your business exposure and grow. \nThis is a non-exclusive group\, and anyone is welcome to attend.\nWe meet weekly at the church\, which has a coffee house that will be open for us. Feel free to come early and stay late to network with others.\nWe would love to meet you and learn how we can support you.
URL:https://hrvcc.org/our-event/christian-business-partners-networking-meeting-2/2026-03-12/
LOCATION:Open Door Church\, 1035 Dairy Ashford Road\, Houston\, TX\, 77079\, United States
CATEGORIES:Member Event,Networking
ATTACH;FMTTYPE=image/jpeg:https://hrvcc.org/wp-content/uploads/2025/08/489331453_1104687735036714_6443372182529629689_n.jpg
END:VEVENT
BEGIN:VEVENT
DTSTART;TZID=America/Chicago:20260313T100000
DTEND;TZID=America/Chicago:20260313T150000
DTSTAMP:20260425T150924
CREATED:20260105T165846Z
LAST-MODIFIED:20260105T165846Z
UID:10001990-1773396000-1773414000@hrvcc.org
SUMMARY:HMH Security Consulting & Higginbotham Presents RANGE DAY!!
DESCRIPTION:Lunch\, laughs\, and a little competition. Range Day is the networking event you’ll actually remember\n\n\n\nJoin HMH Security Consulting & Higginbotham for Range Day! \nGet ready for a unique networking experience that combines marksmanship\, mentorship\, and meaningful connections ~ all at the Renaissance Shooting Club. \nThis full-day event is designed for entrepreneurs and business professionals who want more than just a handshake over coffee. Whether you’re an experienced shooter or trying it for the first time\, you’ll train in a safe\, supportive environment with expert guidance on the line. \nWhat’s Included: \n\nProfessional instruction tailored for all skill levels\nCatered lunch by Honor Café\, courtesy of our event sponsor Texas Underground Armory\nFriendly shooting competition with a $100 cash prize\nGuest speaker from our nonprofit partner\, the PTSD Foundation of America\nNetworking opportunities with like-minded leaders who value precision\, discipline\, and community\n\nAgenda\n\n\n\n10:00 AM – 10:30 AM\nSafety Brief – Introduction to the Sponsors & Guest Speaker \n\n10:30 AM – 12:30 PM\nRange Fun \n\n12:30 PM – 1:30 PM\nGuest Speaker & Lunch \n\n\n\n\nWhy Attend?\nBecause this isn’t just a day at the range\, it’s where business meets camaraderie. You’ll sharpen your aim\, expand your professional circle\, and walk away with new connections and skills you can carry off the range. \nCome for the skills. Stay for the camaraderie. Leave with sharper aim and stronger relationships. \n\n\n\n\nREGISTER HERE
URL:https://hrvcc.org/our-event/hmh-security-consulting-higginbotham-presents-range-day-march/
LOCATION:Renaissance Shooting Club\, 22633 FM 1774\, Todd Mission\, TX\, 77363\, United States
CATEGORIES:Member Event,Networking
ATTACH;FMTTYPE=image/jpeg:https://hrvcc.org/wp-content/uploads/2026/01/RangeDay2026Jan.jpeg
END:VEVENT
END:VCALENDAR