BEGIN:VCALENDAR
VERSION:2.0
PRODID:-//Houston Regional Veterans Chamber of Commerce - ECPv6.15.20//NONSGML v1.0//EN
CALSCALE:GREGORIAN
METHOD:PUBLISH
X-ORIGINAL-URL:https://hrvcc.org
X-WR-CALDESC:Events for Houston Regional Veterans Chamber of Commerce
REFRESH-INTERVAL;VALUE=DURATION:PT1H
X-Robots-Tag:noindex
X-PUBLISHED-TTL:PT1H
BEGIN:VTIMEZONE
TZID:America/Chicago
BEGIN:DAYLIGHT
TZOFFSETFROM:-0600
TZOFFSETTO:-0500
TZNAME:CDT
DTSTART:20250309T080000
END:DAYLIGHT
BEGIN:STANDARD
TZOFFSETFROM:-0500
TZOFFSETTO:-0600
TZNAME:CST
DTSTART:20251102T070000
END:STANDARD
BEGIN:DAYLIGHT
TZOFFSETFROM:-0600
TZOFFSETTO:-0500
TZNAME:CDT
DTSTART:20260308T080000
END:DAYLIGHT
BEGIN:STANDARD
TZOFFSETFROM:-0500
TZOFFSETTO:-0600
TZNAME:CST
DTSTART:20261101T070000
END:STANDARD
BEGIN:DAYLIGHT
TZOFFSETFROM:-0600
TZOFFSETTO:-0500
TZNAME:CDT
DTSTART:20270314T080000
END:DAYLIGHT
BEGIN:STANDARD
TZOFFSETFROM:-0500
TZOFFSETTO:-0600
TZNAME:CST
DTSTART:20271107T070000
END:STANDARD
END:VTIMEZONE
BEGIN:VEVENT
DTSTART;TZID=America/Chicago:20260109T110000
DTEND;TZID=America/Chicago:20260327T110000
DTSTAMP:20260425T150809
CREATED:20251219T172958Z
LAST-MODIFIED:20260306T170046Z
UID:10001987-1767956400-1774609200@hrvcc.org
SUMMARY:⭐️ HRVCC ⭐️ Weekly Meeting
DESCRIPTION:Houston Regional Veterans Chamber – Weekly Virtual Zoom Meeting\nMembers & Guests \nHRVCC NEW Zoom Link for 2026\nZoom Meeting — *** Best to Keep your Confirmation Email so you will not have to reregister again for future meetings. \nhttps://us06web.zoom.us/j/87861721727\nYou are invited to a Zoom meeting now. \nPlease register for the meeting:\nhttps://us06web.zoom.us/meeting/register/ZWeUpCVkSlm1-2SH1p7GPg \nAfter registering\, you will receive a confirmation email containing information about joining the meeting. \nMeeting ID: 892 8812 3579\nPasscode: VetBiz2023 \nHRVCC Member & Guests welcome\nBusiness Education\nBusiness Resources\nGrow your knowledge & your network of Veteran Owned Business
URL:https://hrvcc.org/our-event/%e2%ad%90%ef%b8%8f-hrvcc-%e2%ad%90%ef%b8%8f-weekly-meeting/2026-01-09/
LOCATION:https://us06web.zoom.us/j/87861721727
CATEGORIES:Networking
ATTACH;FMTTYPE=image/png:https://hrvcc.org/wp-content/uploads/2025/01/hrvcc1.png
END:VEVENT
BEGIN:VEVENT
DTSTART;TZID=America/Chicago:20260204T180000
DTEND;TZID=America/Chicago:20260204T210000
DTSTAMP:20260425T150809
CREATED:20251112T211413Z
LAST-MODIFIED:20260115T211936Z
UID:10001983-1770228000-1770238800@hrvcc.org
SUMMARY:⭐️⭐️HRVCC⭐️⭐️ Conroe FOB Networking Mixer - (FEB 2026)
DESCRIPTION: HRVCC Conroe FOB\nMini Mastermind Networking Mixer \n\n📅 When: Wednesday\, February 4\, 2026 | 6:00 PM – 9:00 PM📍 Where: GuadalaHARRY’s Bar & Grill219 Simonton St\, Conroe\, TX 77301(Veteran-Owned Business & HRVCC Member)👔 Attire: Business Casual \nJoin us as we kick off the start of our HRVCC Mini Mastermind Networking Mixer\, held the first Wednesday of every month! \nThis Veteran Business Mini Mastermind Networking Mixer is open to all business owners HRVCC Members\, Veteran & Military Spouse-Owned Businesses\, First Responder-Owned Businesses\, and Passionate Patriot Businesses. \nAgenda: \n\n\nConnections & Success Stories \n\n\nNetworking with Local Veteran Business Leaders \n\n\nCollaborative Conversations on Growth & Opportunity \n\n\n👉 Open to all — bring a friend and see what the HRVCC is all about. \n\n ONE TEAM – ONE MISSION
URL:https://hrvcc.org/our-event/%e2%ad%90%ef%b8%8f%e2%ad%90%ef%b8%8fhrvcc%e2%ad%90%ef%b8%8f%e2%ad%90%ef%b8%8f-conroe-fob-monthly-meeting-feb/
LOCATION:GuadalaHARRY’s Bar & Grill\, 219 Simonton St\, Conroe\, TX\, 77301\, United States
CATEGORIES:Business / Entrepreneur Event,Business Education,HRVCC Events,Mixer/After Hours Networking Events,Networking
ATTACH;FMTTYPE=image/png:https://hrvcc.org/wp-content/uploads/2025/11/Conroe-Feb2026.png
END:VEVENT
BEGIN:VEVENT
DTSTART;TZID=America/Chicago:20260205T080000
DTEND;TZID=America/Chicago:20260205T093000
DTSTAMP:20260425T150809
CREATED:20250808T205744Z
LAST-MODIFIED:20260325T215409Z
UID:10001591-1770278400-1770283800@hrvcc.org
SUMMARY:Christian Business Partners Networking Meeting
DESCRIPTION:Christian Business Partners Networking Meeting \nAre you a Christian business owner looking to connect with others who share your values? Join us for an informational meeting to learn more about Christian Business Partners (CBP)\, a networking group where we build relationships to empower and promote each other’s businesses. \nWe are a group of Christian entrepreneurs and business representatives who strive to run our businesses according to Biblical standards. Our goal is to create a supportive community where we can help you improve your business exposure and grow. \nThis is a non-exclusive group\, and anyone is welcome to attend.\nWe meet weekly at the church\, which has a coffee house that will be open for us. Feel free to come early and stay late to network with others.\nWe would love to meet you and learn how we can support you.
URL:https://hrvcc.org/our-event/christian-business-partners-networking-meeting-2/2026-02-05/
LOCATION:Open Door Church\, 1035 Dairy Ashford Road\, Houston\, TX\, 77079\, United States
CATEGORIES:Member Event,Networking
ATTACH;FMTTYPE=image/jpeg:https://hrvcc.org/wp-content/uploads/2025/08/489331453_1104687735036714_6443372182529629689_n.jpg
END:VEVENT
END:VCALENDAR