BEGIN:VCALENDAR
VERSION:2.0
PRODID:-//Houston Regional Veterans Chamber of Commerce - ECPv6.15.20//NONSGML v1.0//EN
CALSCALE:GREGORIAN
METHOD:PUBLISH
X-ORIGINAL-URL:https://hrvcc.org
X-WR-CALDESC:Events for Houston Regional Veterans Chamber of Commerce
REFRESH-INTERVAL;VALUE=DURATION:PT1H
X-Robots-Tag:noindex
X-PUBLISHED-TTL:PT1H
BEGIN:VTIMEZONE
TZID:America/Chicago
BEGIN:DAYLIGHT
TZOFFSETFROM:-0600
TZOFFSETTO:-0500
TZNAME:CDT
DTSTART:20250309T080000
END:DAYLIGHT
BEGIN:STANDARD
TZOFFSETFROM:-0500
TZOFFSETTO:-0600
TZNAME:CST
DTSTART:20251102T070000
END:STANDARD
BEGIN:DAYLIGHT
TZOFFSETFROM:-0600
TZOFFSETTO:-0500
TZNAME:CDT
DTSTART:20260308T080000
END:DAYLIGHT
BEGIN:STANDARD
TZOFFSETFROM:-0500
TZOFFSETTO:-0600
TZNAME:CST
DTSTART:20261101T070000
END:STANDARD
BEGIN:DAYLIGHT
TZOFFSETFROM:-0600
TZOFFSETTO:-0500
TZNAME:CDT
DTSTART:20270314T080000
END:DAYLIGHT
BEGIN:STANDARD
TZOFFSETFROM:-0500
TZOFFSETTO:-0600
TZNAME:CST
DTSTART:20271107T070000
END:STANDARD
END:VTIMEZONE
BEGIN:VEVENT
DTSTART;TZID=America/Chicago:20260109T110000
DTEND;TZID=America/Chicago:20260327T110000
DTSTAMP:20260425T163259
CREATED:20251219T172958Z
LAST-MODIFIED:20260306T170046Z
UID:10001987-1767956400-1774609200@hrvcc.org
SUMMARY:⭐️ HRVCC ⭐️ Weekly Meeting
DESCRIPTION:Houston Regional Veterans Chamber – Weekly Virtual Zoom Meeting\nMembers & Guests \nHRVCC NEW Zoom Link for 2026\nZoom Meeting — *** Best to Keep your Confirmation Email so you will not have to reregister again for future meetings. \nhttps://us06web.zoom.us/j/87861721727\nYou are invited to a Zoom meeting now. \nPlease register for the meeting:\nhttps://us06web.zoom.us/meeting/register/ZWeUpCVkSlm1-2SH1p7GPg \nAfter registering\, you will receive a confirmation email containing information about joining the meeting. \nMeeting ID: 892 8812 3579\nPasscode: VetBiz2023 \nHRVCC Member & Guests welcome\nBusiness Education\nBusiness Resources\nGrow your knowledge & your network of Veteran Owned Business
URL:https://hrvcc.org/our-event/%e2%ad%90%ef%b8%8f-hrvcc-%e2%ad%90%ef%b8%8f-weekly-meeting/2026-01-09/
LOCATION:https://us06web.zoom.us/j/87861721727
CATEGORIES:Networking
ATTACH;FMTTYPE=image/png:https://hrvcc.org/wp-content/uploads/2025/01/hrvcc1.png
END:VEVENT
BEGIN:VEVENT
DTSTART;TZID=America/Chicago:20260113T180000
DTEND;TZID=America/Chicago:20260113T200000
DTSTAMP:20260425T163259
CREATED:20251112T160231Z
LAST-MODIFIED:20251229T233430Z
UID:10001982-1768327200-1768334400@hrvcc.org
SUMMARY:Cup of JoeY FT HRVCC - (JAN. 2026)
DESCRIPTION:☕️Cup of JoeY FT Houston Regional Veterans Chamber of Commerce🎖️\nAbout this event \n\nEvent lasts 2 hours\nJoin us for a networking event where veterans and local businesses come together over a cup of coffee to support each other in Houston.\n\n📅 Date & Time:  13th Jan.\, 2026 | 6:00 – 8:00 PM CST\n📍 Location: PUTTERY HOUSTON  1818 Washington Ave Unit 180\, Houston\, TX 77007\n👔 Attire: Business Casual / Come as You Are \nConnect with veterans and professionals at PUTTERY HOUSTON with coffee and drinks at this special evening networking event—a space for meaningful conversations and building lasting connections between the military and business communities. \n🗓️ Event Schedule: \n✅ 6:00 PM – 6:30 PM | Check-in & Grab Drinks/Food from Pinstripes 🍽️🥂\n📸 7:00 PM | JoeY’s Signature Family Photo 📷\n🔗 7:00 PM – 8:00 PM | Open Networking & Engaging Discussions 🎤 \n🤔 What’s Your “WHY”? \nExplore your purpose and connect with like-minded individuals at our evening Cup of JoeY! Build meaningful connections that honor your mission and drive success. \n🎖️ About HRVCC \nThe Houston Regional Veterans Chamber of Commerce is dedicated to empowering veteran-owned businesses and fostering economic growth within the veteran community. We bridge the gap between military and civilian sectors\, creating opportunities for success. \nSee you there! \n  \n🔗 Other Business Resources: \n\n\n\n\n\n\n🚀 HRVCC Verizon Digital Ready  | 📅 HRVCC Events Calendar | 📸 HRVCC Photo Gallery | 🔥 Join the Mission \n  \n\n\n\n\n\n\nONE TEAM – ONE MISSION \n 
URL:https://hrvcc.org/our-event/cup-of-joey-ft-hrvcc-jan/
LOCATION:PUTTERY HOUSTON\, 1818 Washington Ave Unit 180\, Houston\, TX\, 77007\, United States
CATEGORIES:Business / Entrepreneur Event,HRVCC Events,Mixer/After Hours Networking Events,Networking
ATTACH;FMTTYPE=image/png:https://hrvcc.org/wp-content/uploads/2025/11/Cup-of-Joey-2026.png
END:VEVENT
BEGIN:VEVENT
DTSTART;TZID=America/Chicago:20260115T080000
DTEND;TZID=America/Chicago:20260115T093000
DTSTAMP:20260425T163259
CREATED:20250808T205744Z
LAST-MODIFIED:20260325T215409Z
UID:10001588-1768464000-1768469400@hrvcc.org
SUMMARY:Christian Business Partners Networking Meeting
DESCRIPTION:Christian Business Partners Networking Meeting \nAre you a Christian business owner looking to connect with others who share your values? Join us for an informational meeting to learn more about Christian Business Partners (CBP)\, a networking group where we build relationships to empower and promote each other’s businesses. \nWe are a group of Christian entrepreneurs and business representatives who strive to run our businesses according to Biblical standards. Our goal is to create a supportive community where we can help you improve your business exposure and grow. \nThis is a non-exclusive group\, and anyone is welcome to attend.\nWe meet weekly at the church\, which has a coffee house that will be open for us. Feel free to come early and stay late to network with others.\nWe would love to meet you and learn how we can support you.
URL:https://hrvcc.org/our-event/christian-business-partners-networking-meeting-2/2026-01-15/
LOCATION:Open Door Church\, 1035 Dairy Ashford Road\, Houston\, TX\, 77079\, United States
CATEGORIES:Member Event,Networking
ATTACH;FMTTYPE=image/jpeg:https://hrvcc.org/wp-content/uploads/2025/08/489331453_1104687735036714_6443372182529629689_n.jpg
END:VEVENT
END:VCALENDAR