BEGIN:VCALENDAR
VERSION:2.0
PRODID:-//Houston Regional Veterans Chamber of Commerce - ECPv6.15.20//NONSGML v1.0//EN
CALSCALE:GREGORIAN
METHOD:PUBLISH
X-ORIGINAL-URL:https://hrvcc.org
X-WR-CALDESC:Events for Houston Regional Veterans Chamber of Commerce
REFRESH-INTERVAL;VALUE=DURATION:PT1H
X-Robots-Tag:noindex
X-PUBLISHED-TTL:PT1H
BEGIN:VTIMEZONE
TZID:America/Chicago
BEGIN:DAYLIGHT
TZOFFSETFROM:-0600
TZOFFSETTO:-0500
TZNAME:CDT
DTSTART:20250309T080000
END:DAYLIGHT
BEGIN:STANDARD
TZOFFSETFROM:-0500
TZOFFSETTO:-0600
TZNAME:CST
DTSTART:20251102T070000
END:STANDARD
BEGIN:DAYLIGHT
TZOFFSETFROM:-0600
TZOFFSETTO:-0500
TZNAME:CDT
DTSTART:20260308T080000
END:DAYLIGHT
BEGIN:STANDARD
TZOFFSETFROM:-0500
TZOFFSETTO:-0600
TZNAME:CST
DTSTART:20261101T070000
END:STANDARD
BEGIN:DAYLIGHT
TZOFFSETFROM:-0600
TZOFFSETTO:-0500
TZNAME:CDT
DTSTART:20270314T080000
END:DAYLIGHT
BEGIN:STANDARD
TZOFFSETFROM:-0500
TZOFFSETTO:-0600
TZNAME:CST
DTSTART:20271107T070000
END:STANDARD
END:VTIMEZONE
BEGIN:VEVENT
DTSTART;TZID=America/Chicago:20260428T073000
DTEND;TZID=America/Chicago:20260428T110000
DTSTAMP:20260425T105027
CREATED:20260121T205126Z
LAST-MODIFIED:20260324T150759Z
UID:10002008-1777361400-1777374000@hrvcc.org
SUMMARY:Greater Houston Business Procurement Forum Breakfast Meeting
DESCRIPTION:  \n \nThe Greater Houston Business Procurement Forum (GHBPF) is “Where Business Takes Place.” This monthly event helps businesses of all sizes grow by connecting\, networking\, and educating on government and corporate projects\, bids\, RFPs\, RFQs\, RFIs\, and other procurement opportunities. \n“Where Business Takes Place.” This monthly event helps businesses of all sizes grow by connecting\, networking\, and educating on government and corporate projects\, bids\, RFPs\, RFQs\, RFIs\, and other procurement opportunities. \nGreater Houston Business Procurement Forum (GHBP) April Focus\nThe Forum will feature a Forecast of area and industry trends delivered by one of the area’s best in urban and economic research complemented by Representatives delivering industry trends and updates on major Projects\, Initiatives and related business opportunities targeted for the Houston area in 2026. \n7:30 am: Registration & Breakfast Served\n7:30 am: Exhibit Booths will be Open for Networking\n8:00 am: Exhibit Booths Close for Program\n8:10 am: Opening Ceremony\n8:15 am: Opening Remarks\n8:30 am: Keynote Panelists – Representatives from Agencies and Institutions review responsibilities and related business opportunities\n9:45 am: Strategic Partner Introductions – New Projects and Initiatives\n9:00 am: Strategic Partner Introductions – Procurement and Finance updates from Houston area Agencies and Institutions\n10:00 am: Exhibitions Booths Reopen for Networking\n11:00 am: Event Ends – Booths Close \nThe Forum is scheduled for April 28th\, 2026 from 8-11 a.m. at (The ION) . \nThe ION: 4201 Main Street at Wheeler Ave.\, Houston\, TX 77002. \nThe United Way:  50 Waugh Dr\, Houston\, TX 77007 | Parking is free in the garage attached to the building. \nHouston Community College West Loop Campus: (Auditorium): 5601 West Loop S\, Houston\, TX 77081 | Parking is free. \nGHBPF – 2026 Calendar\nJanuary 20\, 2026 \nFebruary 24\, 2026 \nMarch 24\, 2026 \nApril 28\, 2026 \nMay 26\, 2026 \nJune 24\, 2026 \nJuly 21\, 2026 \nAugust 25\, 2026 \nSeptember 22\, 2026 \nOctober 20\, 2026 \nNovember 19\, 2026 \nDecember 10\, 2026
URL:https://hrvcc.org/our-event/greater-houston-business-procurement-forum-breakfast-meeting-2/
LOCATION:The ION – Houston\, 4201 Main Street at Wheeler Ave\, Houston\, TX\, 77002\, United States
CATEGORIES:Advocacy HRVCC Table,Business / Entrepreneur Event,Business Education,HRVCC Events,Networking
ATTACH;FMTTYPE=image/jpeg:https://hrvcc.org/wp-content/uploads/2025/01/GHBPF.jpg
END:VEVENT
END:VCALENDAR