BEGIN:VCALENDAR
VERSION:2.0
PRODID:-//Houston Regional Veterans Chamber of Commerce - ECPv6.15.20//NONSGML v1.0//EN
CALSCALE:GREGORIAN
METHOD:PUBLISH
X-WR-CALNAME:Houston Regional Veterans Chamber of Commerce
X-ORIGINAL-URL:https://hrvcc.org
X-WR-CALDESC:Events for Houston Regional Veterans Chamber of Commerce
REFRESH-INTERVAL;VALUE=DURATION:PT1H
X-Robots-Tag:noindex
X-PUBLISHED-TTL:PT1H
BEGIN:VTIMEZONE
TZID:America/Chicago
BEGIN:DAYLIGHT
TZOFFSETFROM:-0600
TZOFFSETTO:-0500
TZNAME:CDT
DTSTART:20250309T080000
END:DAYLIGHT
BEGIN:STANDARD
TZOFFSETFROM:-0500
TZOFFSETTO:-0600
TZNAME:CST
DTSTART:20251102T070000
END:STANDARD
BEGIN:DAYLIGHT
TZOFFSETFROM:-0600
TZOFFSETTO:-0500
TZNAME:CDT
DTSTART:20260308T080000
END:DAYLIGHT
BEGIN:STANDARD
TZOFFSETFROM:-0500
TZOFFSETTO:-0600
TZNAME:CST
DTSTART:20261101T070000
END:STANDARD
BEGIN:DAYLIGHT
TZOFFSETFROM:-0600
TZOFFSETTO:-0500
TZNAME:CDT
DTSTART:20270314T080000
END:DAYLIGHT
BEGIN:STANDARD
TZOFFSETFROM:-0500
TZOFFSETTO:-0600
TZNAME:CST
DTSTART:20271107T070000
END:STANDARD
END:VTIMEZONE
BEGIN:VEVENT
DTSTART;TZID=America/Chicago:20260506T110000
DTEND;TZID=America/Chicago:20260506T133000
DTSTAMP:20260425T103543
CREATED:20260401T185538Z
LAST-MODIFIED:20260401T185538Z
UID:10002526-1778065200-1778074200@hrvcc.org
SUMMARY:The SBA Awards Houston presented by SCORE: Houston ♥️ AI AI ♥️ Houston
DESCRIPTION:🚨 HRVCC MEMBERS – DON’T MISS THIS! 🚨 \n🎉 SCORE / SBA Houston – 2026 Small Business Awards Luncheon \n📅 May 6\, 2026📍 Hilton Houston Post Oak by the Galleria \nCelebrate Houston’s top Entrepreneurs of the Year and connect with leaders shaping the future of business. \n💡 THIS YEAR’S THEME: Houston ♥️ AI / AI ♥️ Houston\nPractical insights on how AI is transforming small business—and how YOU can leverage it now. \n🔥 WHY YOU SHOULD BE THERE\n🤝 High-level networking🏆 Celebrate SBA Award Winners🚀 Learn how to apply AI in your business💼 Exposure + sponsorship opportunities \n👉 Register Now: \n💡 Sponsorship & exhibitor tables available—reply to organizers for details \n💥 Show up\, support\, and position your business for what’s next. \nONE TEAM – ONE MISSION 
URL:https://hrvcc.org/our-event/the-sba-awards-houston-presented-by-score-houston-%e2%99%a5%ef%b8%8f-ai-ai-%e2%99%a5%ef%b8%8f-houston/
LOCATION:Hilton Houston Post Oak by the Galleria\, 2001 Post Oak Blvd\, Houston\, TX\, 77056\, United States
CATEGORIES:Advocacy HRVCC Table,Business / Entrepreneur Event,Member Event,Networking
ATTACH;FMTTYPE=image/png:https://hrvcc.org/wp-content/uploads/2026/04/Screenshot-2026-04-01-135039.png
END:VEVENT
BEGIN:VEVENT
DTSTART;TZID=America/Chicago:20260506T180000
DTEND;TZID=America/Chicago:20260506T210000
DTSTAMP:20260425T103543
CREATED:20260402T182952Z
LAST-MODIFIED:20260403T192543Z
UID:10002458-1778090400-1778101200@hrvcc.org
SUMMARY:⭐️⭐️HRVCC⭐️⭐️ Conroe FOB Networking Mixer - (May 2026)
DESCRIPTION: HRVCC Conroe FOB\nMini Mastermind Networking Mixer \n\n📅 When: Wednesday\, May 6\, 2026 | 6:00 PM – 9:00 PM📍 Where: GuadalaHARRY’s Bar & Grill219 Simonton St\, Conroe\, TX 77301(Veteran-Owned Business & HRVCC Member)👔 Attire: Business Casual \nJoin us as we kick off the start of our HRVCC Mini Mastermind Networking Mixer\, held the first Wednesday of every month! \nThis Veteran Business Mini Mastermind Networking Mixer is open to all business owners HRVCC Members\, Veteran & Military Spouse-Owned Businesses\, First Responder-Owned Businesses\, and Passionate Patriot Businesses. \nAgenda: \n\n\nConnections & Success Stories \n\n\nNetworking with Local Veteran Business Leaders \n\n\nCollaborative Conversations on Growth & Opportunity \n\n\n👉 Open to all — bring a friend and see what the HRVCC is all about. \n💡 Sponsorships Available – Contact  Breanna Brower\, HRVCC Mixer Coordinator for details \n\n ONE TEAM – ONE MISSION
URL:https://hrvcc.org/our-event/%e2%ad%90%ef%b8%8f%e2%ad%90%ef%b8%8fhrvcc%e2%ad%90%ef%b8%8f%e2%ad%90%ef%b8%8f-conroe-fob-networking-mixer-2/
LOCATION:GuadalaHARRY’s Bar & Grill\, 219 Simonton St\, Conroe\, TX\, 77301\, United States
CATEGORIES:Business / Entrepreneur Event,Business Education,HRVCC Events,Mixer/After Hours Networking Events,Networking
ATTACH;FMTTYPE=image/png:https://hrvcc.org/wp-content/uploads/2026/02/CONROE.png
END:VEVENT
BEGIN:VEVENT
DTSTART;TZID=America/Chicago:20260507T080000
DTEND;TZID=America/Chicago:20260507T093000
DTSTAMP:20260425T103543
CREATED:20250808T205744Z
LAST-MODIFIED:20260325T215409Z
UID:10001604-1778140800-1778146200@hrvcc.org
SUMMARY:Christian Business Partners Networking Meeting
DESCRIPTION:Christian Business Partners Networking Meeting \nAre you a Christian business owner looking to connect with others who share your values? Join us for an informational meeting to learn more about Christian Business Partners (CBP)\, a networking group where we build relationships to empower and promote each other’s businesses. \nWe are a group of Christian entrepreneurs and business representatives who strive to run our businesses according to Biblical standards. Our goal is to create a supportive community where we can help you improve your business exposure and grow. \nThis is a non-exclusive group\, and anyone is welcome to attend.\nWe meet weekly at the church\, which has a coffee house that will be open for us. Feel free to come early and stay late to network with others.\nWe would love to meet you and learn how we can support you.
URL:https://hrvcc.org/our-event/christian-business-partners-networking-meeting-2/2026-05-07/
LOCATION:Open Door Church\, 1035 Dairy Ashford Road\, Houston\, TX\, 77079\, United States
CATEGORIES:Member Event,Networking
ATTACH;FMTTYPE=image/jpeg:https://hrvcc.org/wp-content/uploads/2025/08/489331453_1104687735036714_6443372182529629689_n.jpg
END:VEVENT
BEGIN:VEVENT
DTSTART;TZID=America/Chicago:20260507T180000
DTEND;TZID=America/Chicago:20260507T210000
DTSTAMP:20260425T103543
CREATED:20260327T202241Z
LAST-MODIFIED:20260401T193455Z
UID:10002524-1778176800-1778187600@hrvcc.org
SUMMARY:SOUTHEAST HOUSTON AFTER-HOURS MIXER
DESCRIPTION:🔥 SOUTHEAST HOUSTON AFTER-HOURS MIXER 🔥 \n📍 Dickinson VFW Post 6378\n5204 State Hwy 3\, Dickinson\, TX 77539\n📅 May 7\, 2026\n⏰ 6:00 PM – 9:00 PM \nJoin us for an evening of connection\, collaboration\, and community with fellow veteran and military-affiliated business professionals. 🇺🇸💼 \n✨ Build new relationships\n✨ Grow your network\n✨ Support veteran-owned businesses \n👉🏻 Open to all bring a friend and see what HRVCC is all about. \nBring your business cards and your energy — this is one you don’t want to miss! 💥 \nONE TEAM – ONE MISSION
URL:https://hrvcc.org/our-event/southeast-houston-after-hours-mixer/
LOCATION:Dickinson VFW Post 6378\, 5204 State Hwy 3\, Dickinson\, TX\, 77539\, United States
CATEGORIES:Business / Entrepreneur Event,HRVCC Events,Member Event,Mixer/After Hours Networking Events,Networking
ATTACH;FMTTYPE=image/jpeg:https://hrvcc.org/wp-content/uploads/2026/03/b1ae2a62-faed-4f6c-8ddb-884da5f963d6.jpeg
END:VEVENT
BEGIN:VEVENT
DTSTART;TZID=America/Chicago:20260508T100000
DTEND;TZID=America/Chicago:20260508T150000
DTSTAMP:20260425T103543
CREATED:20260105T181958Z
LAST-MODIFIED:20260105T212158Z
UID:10001991-1778234400-1778252400@hrvcc.org
SUMMARY:HMH Security Consulting & Higginbotham Presents RANGE DAY!!
DESCRIPTION:Lunch\, laughs\, and a little competition. Range Day is the networking event you’ll actually remember\n\n\n\nJoin HMH Security Consulting & Higginbotham for Range Day! \nGet ready for a unique networking experience that combines marksmanship\, mentorship\, and meaningful connections ~ all at the Renaissance Shooting Club. \nThis full-day event is designed for entrepreneurs and business professionals who want more than just a handshake over coffee. Whether you’re an experienced shooter or trying it for the first time\, you’ll train in a safe\, supportive environment with expert guidance on the line. \nWhat’s Included: \n\nProfessional instruction tailored for all skill levels\nCatered lunch by Honor Café\, courtesy of our event sponsor Texas Underground Armory\nFriendly shooting competition with a $100 cash prize\nGuest speaker from our nonprofit partner\, the PTSD Foundation of America\nNetworking opportunities with like-minded leaders who value precision\, discipline\, and community\n\nAgenda\n\n\n\n10:00 AM – 10:30 AM\nSafety Brief – Introduction to the Sponsors & Guest Speaker \n\n10:30 AM – 12:30 PM\nRange Fun \n\n12:30 PM – 1:30 PM\nGuest Speaker & Lunch \n\n\n\n\nWhy Attend?\nBecause this isn’t just a day at the range\, it’s where business meets camaraderie. You’ll sharpen your aim\, expand your professional circle\, and walk away with new connections and skills you can carry off the range. \nCome for the skills. Stay for the camaraderie. Leave with sharper aim and stronger relationships. \n\n\n\n\nREGISTER HERE
URL:https://hrvcc.org/our-event/hmh-security-consulting-higginbotham-presents-range-day-may/
LOCATION:Renaissance Shooting Club\, 22633 FM 1774\, Todd Mission\, TX\, 77363\, United States
CATEGORIES:Member Event,Networking
ATTACH;FMTTYPE=image/jpeg:https://hrvcc.org/wp-content/uploads/2026/01/RangeDay2026Jan.jpeg
END:VEVENT
BEGIN:VEVENT
DTSTART;TZID=America/Chicago:20260512T180000
DTEND;TZID=America/Chicago:20260512T200000
DTSTAMP:20260425T103543
CREATED:20260415T190026Z
LAST-MODIFIED:20260415T190026Z
UID:10002529-1778608800-1778616000@hrvcc.org
SUMMARY:Cup of JoeY FT HRVCC - (May 2026)
DESCRIPTION:☕️Cup of JoeY FT Houston Regional Veterans Chamber of Commerce🎖️\nAbout this event \n\nEvent lasts 2 hours\nJoin us for a networking event where veterans and local businesses come together over a cup of coffee to support each other in Houston.\n\n📅 Date & Time:  12th May\, 2026 | 6:00 – 8:00 PM CST\n📍 Location: PUTTERY HOUSTON  1818 Washington Ave Unit 180\, Houston\, TX 77007\n👔 Attire: Business Casual / Come as You Are \nConnect with veterans and professionals at PUTTERY HOUSTON with coffee and drinks at this special evening networking event—a space for meaningful conversations and building lasting connections between the military and business communities. \n🗓️ Event Schedule: \n✅ 6:00 PM – 6:30 PM | Check-in & Grab Drinks/Food from Pinstripes 🍽️🥂\n📸 7:00 PM | JoeY’s Signature Family Photo 📷\n🔗 7:00 PM – 8:00 PM | Open Networking & Engaging Discussions 🎤 \n🤔 What’s Your “WHY”? \nExplore your purpose and connect with like-minded individuals at our evening Cup of JoeY! Build meaningful connections that honor your mission and drive success. \n🎖️ About HRVCC \nThe Houston Regional Veterans Chamber of Commerce is dedicated to empowering veteran-owned businesses and fostering economic growth within the veteran community. We bridge the gap between military and civilian sectors\, creating opportunities for success. \nSee you there! \n  \n🔗 Other Business Resources: \n\n\n\n\n\n\n🚀 HRVCC Verizon Digital Ready  | 📅 HRVCC Events Calendar | 📸 HRVCC Photo Gallery | 🔥 Join the Mission \n  \n\n\n\n\n\n\nONE TEAM – ONE MISSION \n 
URL:https://hrvcc.org/our-event/cup-of-joey-ft-hrvcc-4/
LOCATION:PUTTERY HOUSTON\, 1818 Washington Ave Unit 180\, Houston\, TX\, 77007\, United States
CATEGORIES:Business / Entrepreneur Event,HRVCC Events,Mixer/After Hours Networking Events,Networking
ATTACH;FMTTYPE=image/png:https://hrvcc.org/wp-content/uploads/2025/11/Cup-of-Joey-2026.png
END:VEVENT
BEGIN:VEVENT
DTSTART;TZID=America/Chicago:20260513T180000
DTEND;TZID=America/Chicago:20260513T200000
DTSTAMP:20260425T103543
CREATED:20260417T192935Z
LAST-MODIFIED:20260417T193459Z
UID:10002462-1778695200-1778702400@hrvcc.org
SUMMARY:SCOTTY'S BAR & GRILL SCRATCH KITCHEN in Katy - HRVCC Mixer (MAY 2026)
DESCRIPTION:HRVCC – KATY MIXER \nVeteran and Non-Veteran Business Owners gather at our mixer at SCOTTY’S BAR & GRILL SCRATCH KITCHEN in Katy. Come meet other business owners\, enjoy appetizers\, and learn about Houston Regional Veterans Chamber of Commerce. \nDate and Time: Wednesday 13th May 2026\,  6 – 9pm CDT \nNEW Location: SCOTTY’S BAR & GRILL SCRATCH KITCHEN \n20455 Katy Fwy.\, Katy\, TX 77450 \nAgenda: \n\n\nConnections & Success Stories \n\n\nNetworking with Local Veteran Business Leaders \n\n\nCollaborative Conversations on Growth & Opportunity \n\n\n👉 Open to all — bring a friend and see what the HRVCC is all about. \n💡 Sponsorships Available – Contact \, Amina Buric for details \nONE TEAM – ONE MISSION \n 
URL:https://hrvcc.org/our-event/scottys-bar-grill-scratch-kitchen-in-katy-hrvcc-mixer-2/
LOCATION:SCOTTY’S BAR & GRILL SCRATCH KITCHEN\, 20455 Katy Fwy.\, Katy\, TX\, 77450\, United States
CATEGORIES:Business / Entrepreneur Event,HRVCC Events,Mixer/After Hours Networking Events,Networking
ATTACH;FMTTYPE=image/jpeg:https://hrvcc.org/wp-content/uploads/2026/04/NEWKaty-Mixer.jpg
END:VEVENT
BEGIN:VEVENT
DTSTART;TZID=America/Chicago:20260514T080000
DTEND;TZID=America/Chicago:20260514T093000
DTSTAMP:20260425T103543
CREATED:20250808T205744Z
LAST-MODIFIED:20260325T215409Z
UID:10001605-1778745600-1778751000@hrvcc.org
SUMMARY:Christian Business Partners Networking Meeting
DESCRIPTION:Christian Business Partners Networking Meeting \nAre you a Christian business owner looking to connect with others who share your values? Join us for an informational meeting to learn more about Christian Business Partners (CBP)\, a networking group where we build relationships to empower and promote each other’s businesses. \nWe are a group of Christian entrepreneurs and business representatives who strive to run our businesses according to Biblical standards. Our goal is to create a supportive community where we can help you improve your business exposure and grow. \nThis is a non-exclusive group\, and anyone is welcome to attend.\nWe meet weekly at the church\, which has a coffee house that will be open for us. Feel free to come early and stay late to network with others.\nWe would love to meet you and learn how we can support you.
URL:https://hrvcc.org/our-event/christian-business-partners-networking-meeting-2/2026-05-14/
LOCATION:Open Door Church\, 1035 Dairy Ashford Road\, Houston\, TX\, 77079\, United States
CATEGORIES:Member Event,Networking
ATTACH;FMTTYPE=image/jpeg:https://hrvcc.org/wp-content/uploads/2025/08/489331453_1104687735036714_6443372182529629689_n.jpg
END:VEVENT
BEGIN:VEVENT
DTSTART;TZID=America/Chicago:20260514T080000
DTEND;TZID=America/Chicago:20260514T160000
DTSTAMP:20260425T103543
CREATED:20260416T222352Z
LAST-MODIFIED:20260416T222908Z
UID:10002531-1778745600-1778774400@hrvcc.org
SUMMARY:TIER II SUBCONTRACTOR CAREER FAIR
DESCRIPTION:
URL:https://hrvcc.org/our-event/tier-ii-subcontractor-career-fair/
LOCATION:Fleix L Baldree Community Center\, 13828 Corpus Christi\, Houston\, TX\, 77015\, United States
CATEGORIES:Member Event,Networking
END:VEVENT
BEGIN:VEVENT
DTSTART;TZID=America/Chicago:20260520T160000
DTEND;TZID=America/Chicago:20260520T200000
DTSTAMP:20260425T103543
CREATED:20260325T233319Z
LAST-MODIFIED:20260325T233319Z
UID:10002522-1779292800-1779307200@hrvcc.org
SUMMARY:Houston - National Business Expo 2026 B2B NBE
DESCRIPTION:🔥 HOUSTON – NATIONAL BUSINESS EXPO 2026 \n📅 May 20\, 2026 | 4:00 – 8:00 PM📍 Norris Conference Center\, Houston\, TX \n🎯 One of the largest B2B networking & deal-making events bringing together business owners\, founders\, and professionals for real growth opportunities. \n💼 Why Attend / Exhibit: \n\n🤝 High-impact networking (no algorithms—real connections)\n📈 Generate qualified leads & business deals\n🎤 Sponsorship & speaking opportunities available\n🏢 Exhibitor booths starting at $300\n\n📸 Optional professional video content available for your brand \n👉 Perfect for HRVCC Members ready to scale\, connect\, and do business \n🔗 Reserve Your Spot: \nONE TEAM – ONE MISSION
URL:https://hrvcc.org/our-event/houston-national-business-expo-2026-b2b-nbe/
LOCATION:Norris Conference Centers – Houston/CityCentre\, 816 Town and Country Blvd\, #210\, Houston\, TX\, 77024\, United States
CATEGORIES:Business / Entrepreneur Event,Member Event,Mixer/After Hours Networking Events,Networking
ATTACH;FMTTYPE=image/webp:https://hrvcc.org/wp-content/uploads/2026/03/image-1.webp
END:VEVENT
BEGIN:VEVENT
DTSTART;TZID=America/Chicago:20260521T080000
DTEND;TZID=America/Chicago:20260521T093000
DTSTAMP:20260425T103543
CREATED:20250808T205744Z
LAST-MODIFIED:20260325T215409Z
UID:10001606-1779350400-1779355800@hrvcc.org
SUMMARY:Christian Business Partners Networking Meeting
DESCRIPTION:Christian Business Partners Networking Meeting \nAre you a Christian business owner looking to connect with others who share your values? Join us for an informational meeting to learn more about Christian Business Partners (CBP)\, a networking group where we build relationships to empower and promote each other’s businesses. \nWe are a group of Christian entrepreneurs and business representatives who strive to run our businesses according to Biblical standards. Our goal is to create a supportive community where we can help you improve your business exposure and grow. \nThis is a non-exclusive group\, and anyone is welcome to attend.\nWe meet weekly at the church\, which has a coffee house that will be open for us. Feel free to come early and stay late to network with others.\nWe would love to meet you and learn how we can support you.
URL:https://hrvcc.org/our-event/christian-business-partners-networking-meeting-2/2026-05-21/
LOCATION:Open Door Church\, 1035 Dairy Ashford Road\, Houston\, TX\, 77079\, United States
CATEGORIES:Member Event,Networking
ATTACH;FMTTYPE=image/jpeg:https://hrvcc.org/wp-content/uploads/2025/08/489331453_1104687735036714_6443372182529629689_n.jpg
END:VEVENT
BEGIN:VEVENT
DTSTART;TZID=America/Chicago:20260528T080000
DTEND;TZID=America/Chicago:20260528T093000
DTSTAMP:20260425T103543
CREATED:20250808T205744Z
LAST-MODIFIED:20260325T215409Z
UID:10001607-1779955200-1779960600@hrvcc.org
SUMMARY:Christian Business Partners Networking Meeting
DESCRIPTION:Christian Business Partners Networking Meeting \nAre you a Christian business owner looking to connect with others who share your values? Join us for an informational meeting to learn more about Christian Business Partners (CBP)\, a networking group where we build relationships to empower and promote each other’s businesses. \nWe are a group of Christian entrepreneurs and business representatives who strive to run our businesses according to Biblical standards. Our goal is to create a supportive community where we can help you improve your business exposure and grow. \nThis is a non-exclusive group\, and anyone is welcome to attend.\nWe meet weekly at the church\, which has a coffee house that will be open for us. Feel free to come early and stay late to network with others.\nWe would love to meet you and learn how we can support you.
URL:https://hrvcc.org/our-event/christian-business-partners-networking-meeting-2/2026-05-28/
LOCATION:Open Door Church\, 1035 Dairy Ashford Road\, Houston\, TX\, 77079\, United States
CATEGORIES:Member Event,Networking
ATTACH;FMTTYPE=image/jpeg:https://hrvcc.org/wp-content/uploads/2025/08/489331453_1104687735036714_6443372182529629689_n.jpg
END:VEVENT
END:VCALENDAR