BEGIN:VCALENDAR
VERSION:2.0
PRODID:-//Houston Regional Veterans Chamber of Commerce - ECPv6.15.20//NONSGML v1.0//EN
CALSCALE:GREGORIAN
METHOD:PUBLISH
X-WR-CALNAME:Houston Regional Veterans Chamber of Commerce
X-ORIGINAL-URL:https://hrvcc.org
X-WR-CALDESC:Events for Houston Regional Veterans Chamber of Commerce
REFRESH-INTERVAL;VALUE=DURATION:PT1H
X-Robots-Tag:noindex
X-PUBLISHED-TTL:PT1H
BEGIN:VTIMEZONE
TZID:America/Chicago
BEGIN:DAYLIGHT
TZOFFSETFROM:-0600
TZOFFSETTO:-0500
TZNAME:CDT
DTSTART:20240310T080000
END:DAYLIGHT
BEGIN:STANDARD
TZOFFSETFROM:-0500
TZOFFSETTO:-0600
TZNAME:CST
DTSTART:20241103T070000
END:STANDARD
BEGIN:DAYLIGHT
TZOFFSETFROM:-0600
TZOFFSETTO:-0500
TZNAME:CDT
DTSTART:20250309T080000
END:DAYLIGHT
BEGIN:STANDARD
TZOFFSETFROM:-0500
TZOFFSETTO:-0600
TZNAME:CST
DTSTART:20251102T070000
END:STANDARD
BEGIN:DAYLIGHT
TZOFFSETFROM:-0600
TZOFFSETTO:-0500
TZNAME:CDT
DTSTART:20260308T080000
END:DAYLIGHT
BEGIN:STANDARD
TZOFFSETFROM:-0500
TZOFFSETTO:-0600
TZNAME:CST
DTSTART:20261101T070000
END:STANDARD
BEGIN:DAYLIGHT
TZOFFSETFROM:-0600
TZOFFSETTO:-0500
TZNAME:CDT
DTSTART:20270314T080000
END:DAYLIGHT
BEGIN:STANDARD
TZOFFSETFROM:-0500
TZOFFSETTO:-0600
TZNAME:CST
DTSTART:20271107T070000
END:STANDARD
END:VTIMEZONE
BEGIN:VEVENT
DTSTART;TZID=America/Chicago:20250224T080000
DTEND;TZID=America/Chicago:20261231T170000
DTSTAMP:20260422T045311
CREATED:20250207T234115Z
LAST-MODIFIED:20260421T145425Z
UID:10000789-1740384000-1798736400@hrvcc.org
SUMMARY:Verizon Small Business Digital
DESCRIPTION:Time to Up your Digital Skills in the Marketplace \nBringing Businesses a number of Business Digital Skills Courses at 🚨NO COST🚨 \n🔥Complete any 2 Courses and you now have access to a\n💰💰$10\,000 Business Grant and other grant opportunities \nHere is just some of the courses HRVCC is bringing to you\, to help business Owners better position themselves to win at business and win in the digital marketplace.\n🔷 Defining your Brand: Connecting to Customers\n🔷 Finding the right financing for your business\n🔷 Getting beyond break even: From Knowing numbers to Making Money\n🔷 Digital Defense: An intro to cyber security\n🔷 Winning Contracts: How to write winning business proposals\n🔷 Boost your business: Leveraging technology for productivity\n🔷 OVER – 90 Courses available at your finder tips to grow your business \nTime to up your Business Digital Game and create more opportunities to do more businesses. \nONE TEAM – ONE MISSION
URL:https://hrvcc.org/our-event/verizon-small-business-digital/
LOCATION:Online\, United States
CATEGORIES:Business Education,Educational Webinars,HRVCC Events
ATTACH;FMTTYPE=image/png:https://hrvcc.org/wp-content/uploads/2025/02/Verizond30e2894-cc28-5e56-281e-c9f9542798b4.png
END:VEVENT
BEGIN:VEVENT
DTSTART;VALUE=DATE:20260401
DTEND;VALUE=DATE:20260425
DTSTAMP:20260422T045311
CREATED:20260403T192733Z
LAST-MODIFIED:20260403T232613Z
UID:10002527-1775001600-1777075199@hrvcc.org
SUMMARY:✈️ Vote for Wings Over Houston Airshow
DESCRIPTION:🚨 HRVCC MEMBERS – WE NEED YOU! 🚨 \n✈️ Vote for Wings Over Houston Airshow – Let’s Make It #1! \nThe Wings Over Houston Airshow (WOHA) has been nominated for USA Today’s 10Best Airshow and your vote helps elevate not just the show\, but the entire Veteran-Owned Business (VOB) community we support through the marketplace. \n🔥 WHY THIS MATTERS TO YOU!! \n💼 More visibility = more traffic to our Veteran Business Marketplace (VBM)\n🇺🇸 Stronger recognition for Houston’s veteran business community\n🚀 Bigger impact for YOUR business growth and opportunities \n🎇 Imagine this:\nVBM – Veteran Business Marketplace  at the #1 Airshow in the COUNTRY! 🎇 \n✅ TAKE ACTION (SUPER EASY!) 👉 Vote here:  \n🗳 Vote once per day\n⚡️ Takes less than 10 seconds\n📣 Share with your network \n💥 Let’s help WOHA become #1 this is OUR moment! \nONE TEAM – ONE MISSION
URL:https://hrvcc.org/our-event/%e2%9c%88%ef%b8%8f-vote-for-wings-over-houston-airshow/
LOCATION:Online\, United States
CATEGORIES:Advocacy HRVCC Table,EXPO/Veteran Business Marketplace,HRVCC - Leadership,HRVCC Events,Member Event
ATTACH;FMTTYPE=image/jpeg:https://hrvcc.org/wp-content/uploads/2026/04/download.jpeg
END:VEVENT
BEGIN:VEVENT
DTSTART;TZID=America/Chicago:20260422T150000
DTEND;TZID=America/Chicago:20260422T170000
DTSTAMP:20260422T045311
CREATED:20260413T172600Z
LAST-MODIFIED:20260413T172600Z
UID:10002528-1776870000-1776877200@hrvcc.org
SUMMARY:Port Houston Construction Contractors Forum
DESCRIPTION:
URL:https://hrvcc.org/our-event/port-houston-construction-contractors-forum/
LOCATION:Executive Office Building (Port Houston)\, 111 East Loop North\, Houston\, TX\, 77029\, United States
CATEGORIES:Business / Entrepreneur Event,Business Education,Member Event,Networking
END:VEVENT
END:VCALENDAR