BEGIN:VCALENDAR
VERSION:2.0
PRODID:-//Houston Regional Veterans Chamber of Commerce - ECPv6.15.20//NONSGML v1.0//EN
CALSCALE:GREGORIAN
METHOD:PUBLISH
X-WR-CALNAME:Houston Regional Veterans Chamber of Commerce
X-ORIGINAL-URL:https://hrvcc.org
X-WR-CALDESC:Events for Houston Regional Veterans Chamber of Commerce
REFRESH-INTERVAL;VALUE=DURATION:PT1H
X-Robots-Tag:noindex
X-PUBLISHED-TTL:PT1H
BEGIN:VTIMEZONE
TZID:America/Chicago
BEGIN:DAYLIGHT
TZOFFSETFROM:-0600
TZOFFSETTO:-0500
TZNAME:CDT
DTSTART:20250309T080000
END:DAYLIGHT
BEGIN:STANDARD
TZOFFSETFROM:-0500
TZOFFSETTO:-0600
TZNAME:CST
DTSTART:20251102T070000
END:STANDARD
BEGIN:DAYLIGHT
TZOFFSETFROM:-0600
TZOFFSETTO:-0500
TZNAME:CDT
DTSTART:20260308T080000
END:DAYLIGHT
BEGIN:STANDARD
TZOFFSETFROM:-0500
TZOFFSETTO:-0600
TZNAME:CST
DTSTART:20261101T070000
END:STANDARD
BEGIN:DAYLIGHT
TZOFFSETFROM:-0600
TZOFFSETTO:-0500
TZNAME:CDT
DTSTART:20270314T080000
END:DAYLIGHT
BEGIN:STANDARD
TZOFFSETFROM:-0500
TZOFFSETTO:-0600
TZNAME:CST
DTSTART:20271107T070000
END:STANDARD
END:VTIMEZONE
BEGIN:VEVENT
DTSTART;VALUE=DATE:20260401
DTEND;VALUE=DATE:20260425
DTSTAMP:20260420T011742
CREATED:20260403T192733Z
LAST-MODIFIED:20260403T232613Z
UID:10002527-1775001600-1777075199@hrvcc.org
SUMMARY:✈️ Vote for Wings Over Houston Airshow
DESCRIPTION:🚨 HRVCC MEMBERS – WE NEED YOU! 🚨 \n✈️ Vote for Wings Over Houston Airshow – Let’s Make It #1! \nThe Wings Over Houston Airshow (WOHA) has been nominated for USA Today’s 10Best Airshow and your vote helps elevate not just the show\, but the entire Veteran-Owned Business (VOB) community we support through the marketplace. \n🔥 WHY THIS MATTERS TO YOU!! \n💼 More visibility = more traffic to our Veteran Business Marketplace (VBM)\n🇺🇸 Stronger recognition for Houston’s veteran business community\n🚀 Bigger impact for YOUR business growth and opportunities \n🎇 Imagine this:\nVBM – Veteran Business Marketplace  at the #1 Airshow in the COUNTRY! 🎇 \n✅ TAKE ACTION (SUPER EASY!) 👉 Vote here:  \n🗳 Vote once per day\n⚡️ Takes less than 10 seconds\n📣 Share with your network \n💥 Let’s help WOHA become #1 this is OUR moment! \nONE TEAM – ONE MISSION
URL:https://hrvcc.org/our-event/%e2%9c%88%ef%b8%8f-vote-for-wings-over-houston-airshow/
LOCATION:Online\, United States
CATEGORIES:Advocacy HRVCC Table,EXPO/Veteran Business Marketplace,HRVCC - Leadership,HRVCC Events,Member Event
ATTACH;FMTTYPE=image/jpeg:https://hrvcc.org/wp-content/uploads/2026/04/download.jpeg
END:VEVENT
BEGIN:VEVENT
DTSTART;TZID=America/Chicago:20260420T053000
DTEND;TZID=America/Chicago:20260420T193000
DTSTAMP:20260420T011742
CREATED:20260320T214120Z
LAST-MODIFIED:20260320T214120Z
UID:10002482-1776663000-1776713400@hrvcc.org
SUMMARY:BUSINESS ROUNDTABLE
DESCRIPTION:📣 HRVCC Members – Harris County Business Roundtable! \nConnect\, learn\, and grow with Harris County leaders and local businesses at this interactive roundtable. \nIn partnership with Harris County Precinct 3\, the Department of Economic Equity and Opportunity (DEEO) invites you to join an engaging Business Roundtable focused on connecting\, empowering\, and supporting local businesses and communities. \nThis session will provide an opportunity to: \n\n\nLearn about Harris County Community Programs and how they can support your business initiatives \n\n\nGain guidance on registering as a county vendor and accessing contracting opportunities \n\n\nNetwork with potential partners and collaborate on upcoming projects \n\n\nWe welcome the Harris County business community to connect\, engage\, and explore available resources. \n📅 Monday\, April 20\, 2026⏰ 5:30 PM – 7:30 PM📍 George H.W. Bush Community Center6827 Cypresswood Dr\, Spring\, TX \n💼 What You’ll Gain:✔ Learn about County Community Programs✔ How to register & do business with Harris County✔ Network with potential partners & project teams \n🤝Organizer: Harris County Department of Economic Equity and Opportunity📞 (713) 274-1400📧 deeo@harriscountytx.gov \n👉 Register Here: https://lp.constantcontactpages.com/ev/reg/tnfpwbn \nONE TEAM – ONE MISSION
URL:https://hrvcc.org/our-event/business-roundtable/
LOCATION:George H.W. Bush Community Center\, 6827 Cypresswood Dr\, Spring\, TX\, 77379\, United States
CATEGORIES:Business Education,Member Event
ATTACH;FMTTYPE=application/pdf:https://hrvcc.org/wp-content/uploads/2026/03/April-Events-2.pdf
END:VEVENT
BEGIN:VEVENT
DTSTART;TZID=America/Chicago:20260420T100000
DTEND;TZID=America/Chicago:20260420T150000
DTSTAMP:20260420T011742
CREATED:20260302T184531Z
LAST-MODIFIED:20260302T184552Z
UID:10002466-1776679200-1776697200@hrvcc.org
SUMMARY:VET CONNECT
DESCRIPTION:VetConnect Day\n\n\nWorkforce Solutions is pleased to partner with the Texas Veterans Network powered by Combined Arms\, Texas Workforce Commission\, and Texas Veterans Commission to celebrate the contributions of military veterans and their families in service to our country\, and as highly valued members of the civilian workforce.\n\n\n\nWe invite veterans\, transitioning service members\, their families\, and other qualified job candidates to join us on Monday\, April 20 to meet with approximately 40 local employers and Veterans Service Organizations who are eager to fill a variety of open positions. \nWe are especially honored this year to extend a warm welcome to the active-duty service members visiting Houston for Fleet Week. This collaboration offers a unique opportunity for our nation’s service members to see what Houston has to offer\, both as a world-class city and as a thriving hub for career growth and community. \nClick HERE for more information and to register.
URL:https://hrvcc.org/our-event/vet-connect/
LOCATION:San Jacinto College – Central Campus\, 7901 Fairmount Pkwy\, Pasadena\, TX\, United States
CATEGORIES:Advocacy HRVCC Table,Member Event,Networking,Veteran Master Event Calendar (Veteran Events Only) (Regional)
ATTACH;FMTTYPE=image/png:https://hrvcc.org/wp-content/uploads/2026/03/2026-VetConnect-FleetWeek-Flyer-2.png
END:VEVENT
END:VCALENDAR