BEGIN:VCALENDAR
VERSION:2.0
PRODID:-//Houston Regional Veterans Chamber of Commerce - ECPv6.15.20//NONSGML v1.0//EN
CALSCALE:GREGORIAN
METHOD:PUBLISH
X-WR-CALNAME:Houston Regional Veterans Chamber of Commerce
X-ORIGINAL-URL:https://hrvcc.org
X-WR-CALDESC:Events for Houston Regional Veterans Chamber of Commerce
REFRESH-INTERVAL;VALUE=DURATION:PT1H
X-Robots-Tag:noindex
X-PUBLISHED-TTL:PT1H
BEGIN:VTIMEZONE
TZID:America/Chicago
BEGIN:DAYLIGHT
TZOFFSETFROM:-0600
TZOFFSETTO:-0500
TZNAME:CDT
DTSTART:20240310T080000
END:DAYLIGHT
BEGIN:STANDARD
TZOFFSETFROM:-0500
TZOFFSETTO:-0600
TZNAME:CST
DTSTART:20241103T070000
END:STANDARD
BEGIN:DAYLIGHT
TZOFFSETFROM:-0600
TZOFFSETTO:-0500
TZNAME:CDT
DTSTART:20250309T080000
END:DAYLIGHT
BEGIN:STANDARD
TZOFFSETFROM:-0500
TZOFFSETTO:-0600
TZNAME:CST
DTSTART:20251102T070000
END:STANDARD
BEGIN:DAYLIGHT
TZOFFSETFROM:-0600
TZOFFSETTO:-0500
TZNAME:CDT
DTSTART:20260308T080000
END:DAYLIGHT
BEGIN:STANDARD
TZOFFSETFROM:-0500
TZOFFSETTO:-0600
TZNAME:CST
DTSTART:20261101T070000
END:STANDARD
BEGIN:DAYLIGHT
TZOFFSETFROM:-0600
TZOFFSETTO:-0500
TZNAME:CDT
DTSTART:20270314T080000
END:DAYLIGHT
BEGIN:STANDARD
TZOFFSETFROM:-0500
TZOFFSETTO:-0600
TZNAME:CST
DTSTART:20271107T070000
END:STANDARD
END:VTIMEZONE
BEGIN:VEVENT
DTSTART;TZID=America/Chicago:20250224T080000
DTEND;TZID=America/Chicago:20261231T170000
DTSTAMP:20260425T215050
CREATED:20250207T234115Z
LAST-MODIFIED:20260421T145425Z
UID:10000789-1740384000-1798736400@hrvcc.org
SUMMARY:Verizon Small Business Digital
DESCRIPTION:Time to Up your Digital Skills in the Marketplace \nBringing Businesses a number of Business Digital Skills Courses at 🚨NO COST🚨 \n🔥Complete any 2 Courses and you now have access to a\n💰💰$10\,000 Business Grant and other grant opportunities \nHere is just some of the courses HRVCC is bringing to you\, to help business Owners better position themselves to win at business and win in the digital marketplace.\n🔷 Defining your Brand: Connecting to Customers\n🔷 Finding the right financing for your business\n🔷 Getting beyond break even: From Knowing numbers to Making Money\n🔷 Digital Defense: An intro to cyber security\n🔷 Winning Contracts: How to write winning business proposals\n🔷 Boost your business: Leveraging technology for productivity\n🔷 OVER – 90 Courses available at your finder tips to grow your business \nTime to up your Business Digital Game and create more opportunities to do more businesses. \nONE TEAM – ONE MISSION
URL:https://hrvcc.org/our-event/verizon-small-business-digital/
LOCATION:Online\, United States
CATEGORIES:Business Education,Educational Webinars,HRVCC Events
ATTACH;FMTTYPE=image/png:https://hrvcc.org/wp-content/uploads/2025/02/Verizond30e2894-cc28-5e56-281e-c9f9542798b4.png
END:VEVENT
BEGIN:VEVENT
DTSTART;TZID=America/Chicago:20260109T110000
DTEND;TZID=America/Chicago:20260327T110000
DTSTAMP:20260425T215050
CREATED:20251219T172958Z
LAST-MODIFIED:20260306T170046Z
UID:10001987-1767956400-1774609200@hrvcc.org
SUMMARY:⭐️ HRVCC ⭐️ Weekly Meeting
DESCRIPTION:Houston Regional Veterans Chamber – Weekly Virtual Zoom Meeting\nMembers & Guests \nHRVCC NEW Zoom Link for 2026\nZoom Meeting — *** Best to Keep your Confirmation Email so you will not have to reregister again for future meetings. \nhttps://us06web.zoom.us/j/87861721727\nYou are invited to a Zoom meeting now. \nPlease register for the meeting:\nhttps://us06web.zoom.us/meeting/register/ZWeUpCVkSlm1-2SH1p7GPg \nAfter registering\, you will receive a confirmation email containing information about joining the meeting. \nMeeting ID: 892 8812 3579\nPasscode: VetBiz2023 \nHRVCC Member & Guests welcome\nBusiness Education\nBusiness Resources\nGrow your knowledge & your network of Veteran Owned Business
URL:https://hrvcc.org/our-event/%e2%ad%90%ef%b8%8f-hrvcc-%e2%ad%90%ef%b8%8f-weekly-meeting/2026-01-09/
LOCATION:https://us06web.zoom.us/j/87861721727
CATEGORIES:Networking
ATTACH;FMTTYPE=image/png:https://hrvcc.org/wp-content/uploads/2025/01/hrvcc1.png
END:VEVENT
BEGIN:VEVENT
DTSTART;TZID=America/Chicago:20260326T080000
DTEND;TZID=America/Chicago:20260326T093000
DTSTAMP:20260425T215050
CREATED:20250808T205744Z
LAST-MODIFIED:20260325T215409Z
UID:10001598-1774512000-1774517400@hrvcc.org
SUMMARY:Christian Business Partners Networking Meeting
DESCRIPTION:Christian Business Partners Networking Meeting \nAre you a Christian business owner looking to connect with others who share your values? Join us for an informational meeting to learn more about Christian Business Partners (CBP)\, a networking group where we build relationships to empower and promote each other’s businesses. \nWe are a group of Christian entrepreneurs and business representatives who strive to run our businesses according to Biblical standards. Our goal is to create a supportive community where we can help you improve your business exposure and grow. \nThis is a non-exclusive group\, and anyone is welcome to attend.\nWe meet weekly at the church\, which has a coffee house that will be open for us. Feel free to come early and stay late to network with others.\nWe would love to meet you and learn how we can support you.
URL:https://hrvcc.org/our-event/christian-business-partners-networking-meeting-2/2026-03-26/
LOCATION:Open Door Church\, 1035 Dairy Ashford Road\, Houston\, TX\, 77079\, United States
CATEGORIES:Member Event,Networking
ATTACH;FMTTYPE=image/jpeg:https://hrvcc.org/wp-content/uploads/2025/08/489331453_1104687735036714_6443372182529629689_n.jpg
END:VEVENT
BEGIN:VEVENT
DTSTART;TZID=America/Chicago:20260326T150000
DTEND;TZID=America/Chicago:20260326T200000
DTSTAMP:20260425T215050
CREATED:20260306T230448Z
LAST-MODIFIED:20260311T225742Z
UID:10002469-1774537200-1774555200@hrvcc.org
SUMMARY:Small Business Expo (PaymentsGallery.com)
DESCRIPTION:HRVCC Members – Save the Date! \n🗓 Thursday\, March 26⏰ 4:00 PM – 8:00 PM📍 9800 Richmond Ave\, Houston \n🎟 FREE to attend with FREE parking available.\n \nJoin us for an evening of networking\, business insights\, and opportunities hosted by Beyond Flexspace. \n✨ What to Expect:🍽 Free food & drinks🎁 Hundreds of dollars in door prizes🤝 Open networking with local business owners📈 Business accelerator workshops🎤 Panel speakers sharing insights on starting\, scaling\, and selling a business \nRegister Here: \nONE TEAM – ONE MISSION
URL:https://hrvcc.org/our-event/small-business-expo-paymentsgallery-com/
LOCATION:Payment Gallery Small Business EXPO\, 9800 Richmond Ave.\, Houston\, TX\, 77042\, United States
CATEGORIES:Business / Entrepreneur Event,HRVCC Events,Networking
ATTACH;FMTTYPE=image/webp:https://hrvcc.org/wp-content/uploads/2026/03/image.webp
END:VEVENT
BEGIN:VEVENT
DTSTART;TZID=America/Chicago:20260326T173000
DTEND;TZID=America/Chicago:20260326T203000
DTSTAMP:20260425T215050
CREATED:20260303T223352Z
LAST-MODIFIED:20260303T223352Z
UID:10002467-1774546200-1774557000@hrvcc.org
SUMMARY:Oil Gas Global Network Industry Mixer
DESCRIPTION:🚨Exclusive HRVCC Member Benefit – Oil & Gas Global Network Event 🚨\nHRVCC members now have access to an exclusive FREE discount code for the Oil & Gas Global Network (OGGN) Event\, available in your member profile! \n📅 Date: Thursday\, March 26\, 2026\n⏰ Time: 5:30 PM – 8:30 PM\n📍 Location: The Ranch Office – Memorial 1220 Blalock Road #300\, Houston\, TX 77055 \n🤝 Network with Oil & Gas Pros: Connect with 75–100 industry leaders\, senior executives\, and professionals in a relaxed\, not-so-corporate atmosphere. \n🍔🍷🎵 Enjoy the Evening: Savor delicious food\, drinks\, and live music. \nOGGN is a proud Veteran-Owned Business (VOB) and sponsor of HRVCC. \n🔹👉 HRVCC Member Login  (💥 FREE for HRVCC Members – use your member code!)\n🔗 Register for the event here:  OGGN Monthly Mixer – Jan 29\, 2026 \nONE TEAM – ONE MISSION
URL:https://hrvcc.org/our-event/oil-gas-global-network-industry-mixer-3/
LOCATION:The Ranch Office – Memorial\, 1220 Blalock Rd #300\, Houston\, TX\, 77055\, United States
CATEGORIES:Business / Entrepreneur Event,Mixer/After Hours Networking Events,Networking
ATTACH;FMTTYPE=image/jpeg:https://hrvcc.org/wp-content/uploads/2026/03/https___cdn.evbuc_.com_images_1178802661_916363836153_1_original.jpeg
END:VEVENT
END:VCALENDAR